BEGIN:VCALENDAR
VERSION:2.0
PRODID:-//achurchnearyou.com//eventfeed//EN
CALSCALE:GREGORIAN
METHOD:PUBLISH
X-WR-TIMEZONE:UTC
BEGIN:VEVENT
SUMMARY:Morning Eucharist
DTSTART;TZID=Europe/London:20260401T100000
DTEND;TZID=Europe/London:20260401T104500
DTSTAMP:20260421T151738Z
UID:12890831775034000.0achurchnearyou
CATEGORIES:
DESCRIPTION:Mid-week service of Holy communion
GEO:-3.233741;54.119081
LOCATION:St James
URL:https://www.achurchnearyou.com/church/12427/service-and-events/events/
 1289083/
END:VEVENT
BEGIN:VEVENT
SUMMARY:Bellringing Practice
DTSTART;TZID=Europe/London:20260401T193000
DTEND;TZID=Europe/London:20260401T210000
DTSTAMP:20260421T151738Z
UID:12890661775068200.0achurchnearyou
CATEGORIES:
DESCRIPTION:Regular ringers and visitors 7.30pm to 9pm\nAdditional simulat
 or\, and learners bell-handling session 7pm to 7.30pm using tied bells and
  tower simulator.\nContact Tower Captain - see https://northbarrowchurches
 .org.uk/st-james-the-great/contacts
GEO:-3.233741;54.119081
LOCATION:St James
URL:https://www.achurchnearyou.com/church/12427/service-and-events/events/
 1289066/
END:VEVENT
BEGIN:VEVENT
SUMMARY:Choir Practice
DTSTART;TZID=Europe/London:20260402T140000
DTEND;TZID=Europe/London:20260402T150000
DTSTAMP:20260421T151738Z
UID:12890811775134800.0achurchnearyou
CATEGORIES:
DESCRIPTION:St James' Choir Practice
GEO:-3.233741;54.119081
LOCATION:St James
URL:https://www.achurchnearyou.com/church/12427/service-and-events/events/
 1289081/
END:VEVENT
BEGIN:VEVENT
SUMMARY:Family Sunday Service
DTSTART;TZID=Europe/London:20260405T103000
DTEND;TZID=Europe/London:20260405T113000
DTSTAMP:20260421T151738Z
UID:12890561775381400.0achurchnearyou
CATEGORIES:
DESCRIPTION:First Sunday of each month we have a family service suitable f
 or all ages.
GEO:-3.233741;54.119081
LOCATION:St James
URL:https://www.facebook.com/StJamesChurchBarrow/
END:VEVENT
BEGIN:VEVENT
SUMMARY:Choral Evensong
DTSTART;TZID=Europe/London:20260405T183000
DTEND;TZID=Europe/London:20260405T193000
DTSTAMP:20260421T151738Z
UID:12890641775410200.0achurchnearyou
CATEGORIES:
DESCRIPTION:Usually on the first Sunday of the month \n(please check in ca
 se it is cancelled for any reason - https://northbarrowchurches.org.uk/st-
 james-the-great/contacts)
GEO:-3.233741;54.119081
LOCATION:St James
URL:https://www.achurchnearyou.com/church/12427/service-and-events/events/
 1289064/
END:VEVENT
BEGIN:VEVENT
SUMMARY:Morning Eucharist
DTSTART;TZID=Europe/London:20260408T100000
DTEND;TZID=Europe/London:20260408T104500
DTSTAMP:20260421T151738Z
UID:12890831775638800.0achurchnearyou
CATEGORIES:
DESCRIPTION:Mid-week service of Holy communion
GEO:-3.233741;54.119081
LOCATION:St James
URL:https://www.achurchnearyou.com/church/12427/service-and-events/events/
 1289083/
END:VEVENT
BEGIN:VEVENT
SUMMARY:Bellringing Practice
DTSTART;TZID=Europe/London:20260408T193000
DTEND;TZID=Europe/London:20260408T210000
DTSTAMP:20260421T151738Z
UID:12890661775673000.0achurchnearyou
CATEGORIES:
DESCRIPTION:Regular ringers and visitors 7.30pm to 9pm\nAdditional simulat
 or\, and learners bell-handling session 7pm to 7.30pm using tied bells and
  tower simulator.\nContact Tower Captain - see https://northbarrowchurches
 .org.uk/st-james-the-great/contacts
GEO:-3.233741;54.119081
LOCATION:St James
URL:https://www.achurchnearyou.com/church/12427/service-and-events/events/
 1289066/
END:VEVENT
BEGIN:VEVENT
SUMMARY:Choir Practice
DTSTART;TZID=Europe/London:20260409T140000
DTEND;TZID=Europe/London:20260409T150000
DTSTAMP:20260421T151738Z
UID:12890811775739600.0achurchnearyou
CATEGORIES:
DESCRIPTION:St James' Choir Practice
GEO:-3.233741;54.119081
LOCATION:St James
URL:https://www.achurchnearyou.com/church/12427/service-and-events/events/
 1289081/
END:VEVENT
BEGIN:VEVENT
SUMMARY:Sunday Service of Holy Communion
DTSTART;TZID=Europe/London:20260412T103000
DTEND;TZID=Europe/London:20260412T113000
DTSTAMP:20260421T151738Z
UID:12890581775986200.0achurchnearyou
CATEGORIES:
DESCRIPTION:Our regular main Sunday Service in the parish.
GEO:-3.233741;54.119081
LOCATION:St James
URL:https://www.facebook.com/StJamesChurchBarrow/
END:VEVENT
BEGIN:VEVENT
SUMMARY:Morning Eucharist
DTSTART;TZID=Europe/London:20260415T100000
DTEND;TZID=Europe/London:20260415T104500
DTSTAMP:20260421T151738Z
UID:12890831776243600.0achurchnearyou
CATEGORIES:
DESCRIPTION:Mid-week service of Holy communion
GEO:-3.233741;54.119081
LOCATION:St James
URL:https://www.achurchnearyou.com/church/12427/service-and-events/events/
 1289083/
END:VEVENT
BEGIN:VEVENT
SUMMARY:Bellringing Practice
DTSTART;TZID=Europe/London:20260415T193000
DTEND;TZID=Europe/London:20260415T210000
DTSTAMP:20260421T151738Z
UID:12890661776277800.0achurchnearyou
CATEGORIES:
DESCRIPTION:Regular ringers and visitors 7.30pm to 9pm\nAdditional simulat
 or\, and learners bell-handling session 7pm to 7.30pm using tied bells and
  tower simulator.\nContact Tower Captain - see https://northbarrowchurches
 .org.uk/st-james-the-great/contacts
GEO:-3.233741;54.119081
LOCATION:St James
URL:https://www.achurchnearyou.com/church/12427/service-and-events/events/
 1289066/
END:VEVENT
BEGIN:VEVENT
SUMMARY:Choir Practice
DTSTART;TZID=Europe/London:20260416T140000
DTEND;TZID=Europe/London:20260416T150000
DTSTAMP:20260421T151738Z
UID:12890811776344400.0achurchnearyou
CATEGORIES:
DESCRIPTION:St James' Choir Practice
GEO:-3.233741;54.119081
LOCATION:St James
URL:https://www.achurchnearyou.com/church/12427/service-and-events/events/
 1289081/
END:VEVENT
BEGIN:VEVENT
SUMMARY:Sunday Service of Holy Communion
DTSTART;TZID=Europe/London:20260419T103000
DTEND;TZID=Europe/London:20260419T113000
DTSTAMP:20260421T151738Z
UID:12890581776591000.0achurchnearyou
CATEGORIES:
DESCRIPTION:Our regular main Sunday Service in the parish.
GEO:-3.233741;54.119081
LOCATION:St James
URL:https://www.facebook.com/StJamesChurchBarrow/
END:VEVENT
BEGIN:VEVENT
SUMMARY:Morning Eucharist
DTSTART;TZID=Europe/London:20260422T100000
DTEND;TZID=Europe/London:20260422T104500
DTSTAMP:20260421T151738Z
UID:12890831776848400.0achurchnearyou
CATEGORIES:
DESCRIPTION:Mid-week service of Holy communion
GEO:-3.233741;54.119081
LOCATION:St James
URL:https://www.achurchnearyou.com/church/12427/service-and-events/events/
 1289083/
END:VEVENT
BEGIN:VEVENT
SUMMARY:Bellringing Practice
DTSTART;TZID=Europe/London:20260422T193000
DTEND;TZID=Europe/London:20260422T210000
DTSTAMP:20260421T151738Z
UID:12890661776882600.0achurchnearyou
CATEGORIES:
DESCRIPTION:Regular ringers and visitors 7.30pm to 9pm\nAdditional simulat
 or\, and learners bell-handling session 7pm to 7.30pm using tied bells and
  tower simulator.\nContact Tower Captain - see https://northbarrowchurches
 .org.uk/st-james-the-great/contacts
GEO:-3.233741;54.119081
LOCATION:St James
URL:https://www.achurchnearyou.com/church/12427/service-and-events/events/
 1289066/
END:VEVENT
BEGIN:VEVENT
SUMMARY:Choir Practice
DTSTART;TZID=Europe/London:20260423T140000
DTEND;TZID=Europe/London:20260423T150000
DTSTAMP:20260421T151738Z
UID:12890811776949200.0achurchnearyou
CATEGORIES:
DESCRIPTION:St James' Choir Practice
GEO:-3.233741;54.119081
LOCATION:St James
URL:https://www.achurchnearyou.com/church/12427/service-and-events/events/
 1289081/
END:VEVENT
BEGIN:VEVENT
SUMMARY:Sunday Service of Holy Communion
DTSTART;TZID=Europe/London:20260426T103000
DTEND;TZID=Europe/London:20260426T113000
DTSTAMP:20260421T151738Z
UID:12890581777195800.0achurchnearyou
CATEGORIES:
DESCRIPTION:Our regular main Sunday Service in the parish.
GEO:-3.233741;54.119081
LOCATION:St James
URL:https://www.facebook.com/StJamesChurchBarrow/
END:VEVENT
BEGIN:VEVENT
SUMMARY:Morning Eucharist
DTSTART;TZID=Europe/London:20260429T100000
DTEND;TZID=Europe/London:20260429T104500
DTSTAMP:20260421T151738Z
UID:12890831777453200.0achurchnearyou
CATEGORIES:
DESCRIPTION:Mid-week service of Holy communion
GEO:-3.233741;54.119081
LOCATION:St James
URL:https://www.achurchnearyou.com/church/12427/service-and-events/events/
 1289083/
END:VEVENT
BEGIN:VEVENT
SUMMARY:Bellringing Practice
DTSTART;TZID=Europe/London:20260429T193000
DTEND;TZID=Europe/London:20260429T210000
DTSTAMP:20260421T151738Z
UID:12890661777487400.0achurchnearyou
CATEGORIES:
DESCRIPTION:Regular ringers and visitors 7.30pm to 9pm\nAdditional simulat
 or\, and learners bell-handling session 7pm to 7.30pm using tied bells and
  tower simulator.\nContact Tower Captain - see https://northbarrowchurches
 .org.uk/st-james-the-great/contacts
GEO:-3.233741;54.119081
LOCATION:St James
URL:https://www.achurchnearyou.com/church/12427/service-and-events/events/
 1289066/
END:VEVENT
BEGIN:VEVENT
SUMMARY:Choir Practice
DTSTART;TZID=Europe/London:20260430T140000
DTEND;TZID=Europe/London:20260430T150000
DTSTAMP:20260421T151738Z
UID:12890811777554000.0achurchnearyou
CATEGORIES:
DESCRIPTION:St James' Choir Practice
GEO:-3.233741;54.119081
LOCATION:St James
URL:https://www.achurchnearyou.com/church/12427/service-and-events/events/
 1289081/
END:VEVENT
BEGIN:VEVENT
SUMMARY:Family Sunday Service
DTSTART;TZID=Europe/London:20260503T103000
DTEND;TZID=Europe/London:20260503T113000
DTSTAMP:20260421T151738Z
UID:12890561777800600.0achurchnearyou
CATEGORIES:
DESCRIPTION:First Sunday of each month we have a family service suitable f
 or all ages.
GEO:-3.233741;54.119081
LOCATION:St James
URL:https://www.facebook.com/StJamesChurchBarrow/
END:VEVENT
BEGIN:VEVENT
SUMMARY:Choral Evensong
DTSTART;TZID=Europe/London:20260503T183000
DTEND;TZID=Europe/London:20260503T193000
DTSTAMP:20260421T151738Z
UID:12890641777829400.0achurchnearyou
CATEGORIES:
DESCRIPTION:Usually on the first Sunday of the month \n(please check in ca
 se it is cancelled for any reason - https://northbarrowchurches.org.uk/st-
 james-the-great/contacts)
GEO:-3.233741;54.119081
LOCATION:St James
URL:https://www.achurchnearyou.com/church/12427/service-and-events/events/
 1289064/
END:VEVENT
BEGIN:VEVENT
SUMMARY:Morning Eucharist
DTSTART;TZID=Europe/London:20260506T100000
DTEND;TZID=Europe/London:20260506T104500
DTSTAMP:20260421T151738Z
UID:12890831778058000.0achurchnearyou
CATEGORIES:
DESCRIPTION:Mid-week service of Holy communion
GEO:-3.233741;54.119081
LOCATION:St James
URL:https://www.achurchnearyou.com/church/12427/service-and-events/events/
 1289083/
END:VEVENT
BEGIN:VEVENT
SUMMARY:Bellringing Practice
DTSTART;TZID=Europe/London:20260506T193000
DTEND;TZID=Europe/London:20260506T210000
DTSTAMP:20260421T151738Z
UID:12890661778092200.0achurchnearyou
CATEGORIES:
DESCRIPTION:Regular ringers and visitors 7.30pm to 9pm\nAdditional simulat
 or\, and learners bell-handling session 7pm to 7.30pm using tied bells and
  tower simulator.\nContact Tower Captain - see https://northbarrowchurches
 .org.uk/st-james-the-great/contacts
GEO:-3.233741;54.119081
LOCATION:St James
URL:https://www.achurchnearyou.com/church/12427/service-and-events/events/
 1289066/
END:VEVENT
BEGIN:VEVENT
SUMMARY:Choir Practice
DTSTART;TZID=Europe/London:20260507T140000
DTEND;TZID=Europe/London:20260507T150000
DTSTAMP:20260421T151738Z
UID:12890811778158800.0achurchnearyou
CATEGORIES:
DESCRIPTION:St James' Choir Practice
GEO:-3.233741;54.119081
LOCATION:St James
URL:https://www.achurchnearyou.com/church/12427/service-and-events/events/
 1289081/
END:VEVENT
BEGIN:VEVENT
SUMMARY:Sunday Service of Holy Communion
DTSTART;TZID=Europe/London:20260510T103000
DTEND;TZID=Europe/London:20260510T113000
DTSTAMP:20260421T151738Z
UID:12890581778405400.0achurchnearyou
CATEGORIES:
DESCRIPTION:Our regular main Sunday Service in the parish.
GEO:-3.233741;54.119081
LOCATION:St James
URL:https://www.facebook.com/StJamesChurchBarrow/
END:VEVENT
BEGIN:VEVENT
SUMMARY:Morning Eucharist
DTSTART;TZID=Europe/London:20260513T100000
DTEND;TZID=Europe/London:20260513T104500
DTSTAMP:20260421T151739Z
UID:12890831778662800.0achurchnearyou
CATEGORIES:
DESCRIPTION:Mid-week service of Holy communion
GEO:-3.233741;54.119081
LOCATION:St James
URL:https://www.achurchnearyou.com/church/12427/service-and-events/events/
 1289083/
END:VEVENT
BEGIN:VEVENT
SUMMARY:Bellringing Practice
DTSTART;TZID=Europe/London:20260513T193000
DTEND;TZID=Europe/London:20260513T210000
DTSTAMP:20260421T151739Z
UID:12890661778697000.0achurchnearyou
CATEGORIES:
DESCRIPTION:Regular ringers and visitors 7.30pm to 9pm\nAdditional simulat
 or\, and learners bell-handling session 7pm to 7.30pm using tied bells and
  tower simulator.\nContact Tower Captain - see https://northbarrowchurches
 .org.uk/st-james-the-great/contacts
GEO:-3.233741;54.119081
LOCATION:St James
URL:https://www.achurchnearyou.com/church/12427/service-and-events/events/
 1289066/
END:VEVENT
BEGIN:VEVENT
SUMMARY:Choir Practice
DTSTART;TZID=Europe/London:20260514T140000
DTEND;TZID=Europe/London:20260514T150000
DTSTAMP:20260421T151739Z
UID:12890811778763600.0achurchnearyou
CATEGORIES:
DESCRIPTION:St James' Choir Practice
GEO:-3.233741;54.119081
LOCATION:St James
URL:https://www.achurchnearyou.com/church/12427/service-and-events/events/
 1289081/
END:VEVENT
BEGIN:VEVENT
SUMMARY:Sunday Service of Holy Communion
DTSTART;TZID=Europe/London:20260517T103000
DTEND;TZID=Europe/London:20260517T113000
DTSTAMP:20260421T151739Z
UID:12890581779010200.0achurchnearyou
CATEGORIES:
DESCRIPTION:Our regular main Sunday Service in the parish.
GEO:-3.233741;54.119081
LOCATION:St James
URL:https://www.facebook.com/StJamesChurchBarrow/
END:VEVENT
BEGIN:VEVENT
SUMMARY:Morning Eucharist
DTSTART;TZID=Europe/London:20260520T100000
DTEND;TZID=Europe/London:20260520T104500
DTSTAMP:20260421T151739Z
UID:12890831779267600.0achurchnearyou
CATEGORIES:
DESCRIPTION:Mid-week service of Holy communion
GEO:-3.233741;54.119081
LOCATION:St James
URL:https://www.achurchnearyou.com/church/12427/service-and-events/events/
 1289083/
END:VEVENT
BEGIN:VEVENT
SUMMARY:Bellringing Practice
DTSTART;TZID=Europe/London:20260520T193000
DTEND;TZID=Europe/London:20260520T210000
DTSTAMP:20260421T151739Z
UID:12890661779301800.0achurchnearyou
CATEGORIES:
DESCRIPTION:Regular ringers and visitors 7.30pm to 9pm\nAdditional simulat
 or\, and learners bell-handling session 7pm to 7.30pm using tied bells and
  tower simulator.\nContact Tower Captain - see https://northbarrowchurches
 .org.uk/st-james-the-great/contacts
GEO:-3.233741;54.119081
LOCATION:St James
URL:https://www.achurchnearyou.com/church/12427/service-and-events/events/
 1289066/
END:VEVENT
BEGIN:VEVENT
SUMMARY:Choir Practice
DTSTART;TZID=Europe/London:20260521T140000
DTEND;TZID=Europe/London:20260521T150000
DTSTAMP:20260421T151739Z
UID:12890811779368400.0achurchnearyou
CATEGORIES:
DESCRIPTION:St James' Choir Practice
GEO:-3.233741;54.119081
LOCATION:St James
URL:https://www.achurchnearyou.com/church/12427/service-and-events/events/
 1289081/
END:VEVENT
BEGIN:VEVENT
SUMMARY:Sunday Service of Holy Communion
DTSTART;TZID=Europe/London:20260524T103000
DTEND;TZID=Europe/London:20260524T113000
DTSTAMP:20260421T151739Z
UID:12890581779615000.0achurchnearyou
CATEGORIES:
DESCRIPTION:Our regular main Sunday Service in the parish.
GEO:-3.233741;54.119081
LOCATION:St James
URL:https://www.facebook.com/StJamesChurchBarrow/
END:VEVENT
BEGIN:VEVENT
SUMMARY:Morning Eucharist
DTSTART;TZID=Europe/London:20260527T100000
DTEND;TZID=Europe/London:20260527T104500
DTSTAMP:20260421T151739Z
UID:12890831779872400.0achurchnearyou
CATEGORIES:
DESCRIPTION:Mid-week service of Holy communion
GEO:-3.233741;54.119081
LOCATION:St James
URL:https://www.achurchnearyou.com/church/12427/service-and-events/events/
 1289083/
END:VEVENT
BEGIN:VEVENT
SUMMARY:Bellringing Practice
DTSTART;TZID=Europe/London:20260527T193000
DTEND;TZID=Europe/London:20260527T210000
DTSTAMP:20260421T151739Z
UID:12890661779906600.0achurchnearyou
CATEGORIES:
DESCRIPTION:Regular ringers and visitors 7.30pm to 9pm\nAdditional simulat
 or\, and learners bell-handling session 7pm to 7.30pm using tied bells and
  tower simulator.\nContact Tower Captain - see https://northbarrowchurches
 .org.uk/st-james-the-great/contacts
GEO:-3.233741;54.119081
LOCATION:St James
URL:https://www.achurchnearyou.com/church/12427/service-and-events/events/
 1289066/
END:VEVENT
BEGIN:VEVENT
SUMMARY:Choir Practice
DTSTART;TZID=Europe/London:20260528T140000
DTEND;TZID=Europe/London:20260528T150000
DTSTAMP:20260421T151739Z
UID:12890811779973200.0achurchnearyou
CATEGORIES:
DESCRIPTION:St James' Choir Practice
GEO:-3.233741;54.119081
LOCATION:St James
URL:https://www.achurchnearyou.com/church/12427/service-and-events/events/
 1289081/
END:VEVENT
BEGIN:VEVENT
SUMMARY:Sunday Service of Holy Communion
DTSTART;TZID=Europe/London:20260531T103000
DTEND;TZID=Europe/London:20260531T113000
DTSTAMP:20260421T151739Z
UID:12890581780219800.0achurchnearyou
CATEGORIES:
DESCRIPTION:Our regular main Sunday Service in the parish.
GEO:-3.233741;54.119081
LOCATION:St James
URL:https://www.facebook.com/StJamesChurchBarrow/
END:VEVENT
END:VCALENDAR
