BEGIN:VCALENDAR
VERSION:2.0
PRODID:-//achurchnearyou.com//eventfeed//EN
CALSCALE:GREGORIAN
METHOD:PUBLISH
X-WR-TIMEZONE:UTC
BEGIN:VEVENT
SUMMARY:Holy Communion
DTSTART;TZID=Europe/London:20250420T083000
DTEND;TZID=Europe/London:20250420T091500
DTSTAMP:20260419T145301Z
UID:11371302025-04-20 08:30:00+01:00achurchnearyou
CATEGORIES:
DESCRIPTION:On the first\, third and fifth Sundays of the month
GEO:1.42871;52.624173
LOCATION:Brundall: St Laurence
URL:https://www.achurchnearyou.com/church/10014/service-and-events/events/
 1137130/
END:VEVENT
BEGIN:VEVENT
SUMMARY:Holy Communion
DTSTART;TZID=Europe/London:20250504T083000
DTEND;TZID=Europe/London:20250504T091500
DTSTAMP:20260419T145301Z
UID:11371302025-05-04 08:30:00+01:00achurchnearyou
CATEGORIES:
DESCRIPTION:On the first\, third and fifth Sundays of the month
GEO:1.42871;52.624173
LOCATION:Brundall: St Laurence
URL:https://www.achurchnearyou.com/church/10014/service-and-events/events/
 1137130/
END:VEVENT
BEGIN:VEVENT
SUMMARY:Holy Communion
DTSTART;TZID=Europe/London:20250518T083000
DTEND;TZID=Europe/London:20250518T091500
DTSTAMP:20260419T145301Z
UID:11371302025-05-18 08:30:00+01:00achurchnearyou
CATEGORIES:
DESCRIPTION:On the first\, third and fifth Sundays of the month
GEO:1.42871;52.624173
LOCATION:Brundall: St Laurence
URL:https://www.achurchnearyou.com/church/10014/service-and-events/events/
 1137130/
END:VEVENT
BEGIN:VEVENT
SUMMARY:Holy Communion
DTSTART;TZID=Europe/London:20250601T083000
DTEND;TZID=Europe/London:20250601T091500
DTSTAMP:20260419T145301Z
UID:11371302025-06-01 08:30:00+01:00achurchnearyou
CATEGORIES:
DESCRIPTION:On the first\, third and fifth Sundays of the month
GEO:1.42871;52.624173
LOCATION:Brundall: St Laurence
URL:https://www.achurchnearyou.com/church/10014/service-and-events/events/
 1137130/
END:VEVENT
BEGIN:VEVENT
SUMMARY:Holy Communion
DTSTART;TZID=Europe/London:20250615T083000
DTEND;TZID=Europe/London:20250615T091500
DTSTAMP:20260419T145301Z
UID:11371302025-06-15 08:30:00+01:00achurchnearyou
CATEGORIES:
DESCRIPTION:On the first\, third and fifth Sundays of the month
GEO:1.42871;52.624173
LOCATION:Brundall: St Laurence
URL:https://www.achurchnearyou.com/church/10014/service-and-events/events/
 1137130/
END:VEVENT
BEGIN:VEVENT
SUMMARY:Holy Communion
DTSTART;TZID=Europe/London:20250629T083000
DTEND;TZID=Europe/London:20250629T091500
DTSTAMP:20260419T145301Z
UID:11371302025-06-29 08:30:00+01:00achurchnearyou
CATEGORIES:
DESCRIPTION:On the first\, third and fifth Sundays of the month
GEO:1.42871;52.624173
LOCATION:Brundall: St Laurence
URL:https://www.achurchnearyou.com/church/10014/service-and-events/events/
 1137130/
END:VEVENT
END:VCALENDAR
