BEGIN:VCALENDAR
VERSION:2.0
PRODID:-//achurchnearyou.com//eventfeed//EN
CALSCALE:GREGORIAN
METHOD:PUBLISH
X-WR-TIMEZONE:UTC
BEGIN:VEVENT
SUMMARY:Palm Sunday\, Stations of the Cross
DTSTART:20260329T160000Z
DTEND:20260329T170000Z
DTSTAMP:20260420T214627Z
UID:13127042026-03-29 16:00:00+00:00achurchnearyou
CATEGORIES:
DESCRIPTION:Observance for Easter
GEO:1.292288;52.627892
LOCATION:St Peter Mancroft
URL:https://www.achurchnearyou.com/church/10021/service-and-events/events/
 1312704/
END:VEVENT
END:VCALENDAR
