BEGIN:VCALENDAR
VERSION:2.0
PRODID:-//achurchnearyou.com//eventfeed//EN
CALSCALE:GREGORIAN
METHOD:PUBLISH
X-WR-TIMEZONE:UTC
BEGIN:VEVENT
SUMMARY:Mother's Day Service
DTSTART:20260315T100000Z
DTEND:20260315T110000Z
DTSTAMP:20260423T221918Z
UID:1003572026-03-15 10:00:00+00:00achurchnearyou
CATEGORIES:
DESCRIPTION:A service for Mother's Day with Mothering Sunday posies. (Plea
 se note this service is not a Communion service)\n\nWe hope to Zoom this s
 ervice - please email services@christchurch-eaton.org.uk for details
GEO:1.272391;52.618486
LOCATION:Christ Church\, Eaton
URL:https://christchurch-eaton.org.uk/whats-on/services/
END:VEVENT
END:VCALENDAR
