BEGIN:VCALENDAR
VERSION:2.0
PRODID:-//achurchnearyou.com//eventfeed//EN
CALSCALE:GREGORIAN
METHOD:PUBLISH
X-WR-TIMEZONE:UTC
BEGIN:VEVENT
SUMMARY:Sung Matins with children's activities
DTSTART:20260412T090000Z
DTEND:20260412T100000Z
DTSTAMP:20260423T174056Z
UID:12367242026-04-12 09:00:00+00:00achurchnearyou
CATEGORIES:
DESCRIPTION:A service of Matins\n\nWith organ\, singing and Children's act
 ivities in the children's corner and refreshments served afterwards and la
 st an hour to an hour and a quarter.\n\nWe also normally Zoom these servic
 es. Please email services@christchurch-eaton.org.uk for details\n\nChildre
 n's Activities\n     During School terms a Sunday School for 3 - 11 yr old
 s meets in rooms in the church during the service\, joining the adults for
  communion. Parents can go in with their children if they would like. Ther
 e is also a children's corner with toys\, books and colouring equipment fo
 r children of all ages in the main body of the church and toilet and nappy
 -changing facilities are available. A Youth Group for 11-18 yr olds meets 
 twice a term.
LOCATION:Christ Church\, Eaton
URL:https://christchurch-eaton.org.uk/whats-on/services/
END:VEVENT
END:VCALENDAR
