BEGIN:VCALENDAR
VERSION:2.0
PRODID:-//achurchnearyou.com//eventfeed//EN
CALSCALE:GREGORIAN
METHOD:PUBLISH
X-WR-TIMEZONE:UTC
BEGIN:VEVENT
SUMMARY:Remembrance Sunday
DTSTART;TZID=Europe/London:20251109T100000
DTEND;TZID=Europe/London:20251109T111500
DTSTAMP:20260423T055343Z
UID:4010042025-11-09 10:00:00+00:00achurchnearyou
CATEGORIES:
DESCRIPTION:A communion service with 2 minute silence\n\nWe hope to Zoom t
 his service - please email services@christchurch-eaton.org.uk for details
GEO:1.272391;52.618486
LOCATION:Christ Church\, Eaton
URL:https://christchurch-eaton.org.uk/whats-on/services/
END:VEVENT
BEGIN:VEVENT
SUMMARY:Remembrance Sunday
DTSTART;TZID=Europe/London:20261108T100000
DTEND;TZID=Europe/London:20261108T111500
DTSTAMP:20260423T055343Z
UID:4010042026-11-08 10:00:00+00:00achurchnearyou
CATEGORIES:
DESCRIPTION:A communion service with 2 minute silence\n\nWe hope to Zoom t
 his service - please email services@christchurch-eaton.org.uk for details
GEO:1.272391;52.618486
LOCATION:Christ Church\, Eaton
URL:https://christchurch-eaton.org.uk/whats-on/services/
END:VEVENT
END:VCALENDAR
