BEGIN:VCALENDAR
VERSION:2.0
PRODID:-//achurchnearyou.com//eventfeed//EN
CALSCALE:GREGORIAN
METHOD:PUBLISH
X-WR-TIMEZONE:UTC
BEGIN:VEVENT
SUMMARY:Armistice Day Act of Remembrance
DTSTART;TZID=Europe/London:20251111T104500
DTEND;TZID=Europe/London:20251111T111500
DTSTAMP:20260423T055325Z
UID:4665822025-11-11 10:45:00+00:00achurchnearyou
CATEGORIES:
DESCRIPTION:A Service of Remembrance at the War Memorial on Newmarket Road
 \, including a two-minute silence at 11am.
LOCATION:Newmarket Road War Memorial
URL:https://www.achurchnearyou.com/church/10031/service-and-events/events/
 466582/
END:VEVENT
BEGIN:VEVENT
SUMMARY:Armistice Day Act of Remembrance
DTSTART;TZID=Europe/London:20261111T104500
DTEND;TZID=Europe/London:20261111T111500
DTSTAMP:20260423T055325Z
UID:4665822026-11-11 10:45:00+00:00achurchnearyou
CATEGORIES:
DESCRIPTION:A Service of Remembrance at the War Memorial on Newmarket Road
 \, including a two-minute silence at 11am.
LOCATION:Newmarket Road War Memorial
URL:https://www.achurchnearyou.com/church/10031/service-and-events/events/
 466582/
END:VEVENT
BEGIN:VEVENT
SUMMARY:Armistice Day Act of Remembrance
DTSTART;TZID=Europe/London:20271111T104500
DTEND;TZID=Europe/London:20271111T111500
DTSTAMP:20260423T055325Z
UID:4665822027-11-11 10:45:00+00:00achurchnearyou
CATEGORIES:
DESCRIPTION:A Service of Remembrance at the War Memorial on Newmarket Road
 \, including a two-minute silence at 11am.
LOCATION:Newmarket Road War Memorial
URL:https://www.achurchnearyou.com/church/10031/service-and-events/events/
 466582/
END:VEVENT
END:VCALENDAR
