BEGIN:VCALENDAR
VERSION:2.0
PRODID:-//achurchnearyou.com//eventfeed//EN
CALSCALE:GREGORIAN
METHOD:PUBLISH
X-WR-TIMEZONE:UTC
BEGIN:VEVENT
SUMMARY:Maundy Thursday Holy Communion with Foot Washing
DTSTART:20260402T183000Z
DTEND:20260402T194500Z
DTSTAMP:20260423T222043Z
UID:4931512026-04-02 18:30:00+00:00achurchnearyou
CATEGORIES:
DESCRIPTION:Holy Communion with Choir and Foot-Washing\, followed by the S
 tripping of the Altars\n\nWe also hope to Zoom this service - please email
  services@christchurch-eaton.org.uk for details
GEO:1.272391;52.618486
LOCATION:Christ Church\, Eaton
URL:https://christchurch-eaton.org.uk/whats-on/services/
END:VEVENT
END:VCALENDAR
