BEGIN:VCALENDAR
VERSION:2.0
PRODID:-//achurchnearyou.com//eventfeed//EN
CALSCALE:GREGORIAN
METHOD:PUBLISH
X-WR-TIMEZONE:UTC
BEGIN:VEVENT
SUMMARY:BCP Evensong
DTSTART;TZID=Europe/London:20260405T180000
DTEND;TZID=Europe/London:20260405T190000
DTSTAMP:20260423T055337Z
UID:580482026-04-05 18:00:00+01:00achurchnearyou
CATEGORIES:
DESCRIPTION:Sung Evensong with four hymns\, psalm and canticles to Anglica
 n chant\, and a sermon\, lasting about an hour. There will be BCP Choral E
 vensong on the first Sunday of the month\n\nDuring the winter months this 
 service moves to being Evening Prayer on Zoom only\n\nWe also hope to Zoom
  this service - please email services@christchurch-eaton.org.uk for detail
 s
GEO:1.272391;52.618486
LOCATION:Christ Church\, Eaton
URL:https://christchurch-eaton.org.uk/whats-on/services/
END:VEVENT
BEGIN:VEVENT
SUMMARY:BCP Evensong
DTSTART;TZID=Europe/London:20260412T180000
DTEND;TZID=Europe/London:20260412T190000
DTSTAMP:20260423T055337Z
UID:580482026-04-12 18:00:00+01:00achurchnearyou
CATEGORIES:
DESCRIPTION:Sung Evensong with four hymns\, psalm and canticles to Anglica
 n chant\, and a sermon\, lasting about an hour. There will be BCP Choral E
 vensong on the first Sunday of the month\n\nDuring the winter months this 
 service moves to being Evening Prayer on Zoom only\n\nWe also hope to Zoom
  this service - please email services@christchurch-eaton.org.uk for detail
 s
GEO:1.272391;52.618486
LOCATION:Christ Church\, Eaton
URL:https://christchurch-eaton.org.uk/whats-on/services/
END:VEVENT
BEGIN:VEVENT
SUMMARY:BCP Evensong
DTSTART;TZID=Europe/London:20260419T180000
DTEND;TZID=Europe/London:20260419T190000
DTSTAMP:20260423T055337Z
UID:580482026-04-19 18:00:00+01:00achurchnearyou
CATEGORIES:
DESCRIPTION:Sung Evensong with four hymns\, psalm and canticles to Anglica
 n chant\, and a sermon\, lasting about an hour. There will be BCP Choral E
 vensong on the first Sunday of the month\n\nDuring the winter months this 
 service moves to being Evening Prayer on Zoom only\n\nWe also hope to Zoom
  this service - please email services@christchurch-eaton.org.uk for detail
 s
GEO:1.272391;52.618486
LOCATION:Christ Church\, Eaton
URL:https://christchurch-eaton.org.uk/whats-on/services/
END:VEVENT
BEGIN:VEVENT
SUMMARY:BCP Evensong
DTSTART;TZID=Europe/London:20260426T180000
DTEND;TZID=Europe/London:20260426T190000
DTSTAMP:20260423T055337Z
UID:580482026-04-26 18:00:00+01:00achurchnearyou
CATEGORIES:
DESCRIPTION:Sung Evensong with four hymns\, psalm and canticles to Anglica
 n chant\, and a sermon\, lasting about an hour. There will be BCP Choral E
 vensong on the first Sunday of the month\n\nDuring the winter months this 
 service moves to being Evening Prayer on Zoom only\n\nWe also hope to Zoom
  this service - please email services@christchurch-eaton.org.uk for detail
 s
GEO:1.272391;52.618486
LOCATION:Christ Church\, Eaton
URL:https://christchurch-eaton.org.uk/whats-on/services/
END:VEVENT
BEGIN:VEVENT
SUMMARY:BCP Evensong
DTSTART;TZID=Europe/London:20260510T180000
DTEND;TZID=Europe/London:20260510T190000
DTSTAMP:20260423T055337Z
UID:580482026-05-10 18:00:00+01:00achurchnearyou
CATEGORIES:
DESCRIPTION:Sung Evensong with four hymns\, psalm and canticles to Anglica
 n chant\, and a sermon\, lasting about an hour. There will be BCP Choral E
 vensong on the first Sunday of the month\n\nDuring the winter months this 
 service moves to being Evening Prayer on Zoom only\n\nWe also hope to Zoom
  this service - please email services@christchurch-eaton.org.uk for detail
 s
GEO:1.272391;52.618486
LOCATION:Christ Church\, Eaton
URL:https://christchurch-eaton.org.uk/whats-on/services/
END:VEVENT
BEGIN:VEVENT
SUMMARY:BCP Evensong
DTSTART;TZID=Europe/London:20260517T180000
DTEND;TZID=Europe/London:20260517T190000
DTSTAMP:20260423T055337Z
UID:580482026-05-17 18:00:00+01:00achurchnearyou
CATEGORIES:
DESCRIPTION:Sung Evensong with four hymns\, psalm and canticles to Anglica
 n chant\, and a sermon\, lasting about an hour. There will be BCP Choral E
 vensong on the first Sunday of the month\n\nDuring the winter months this 
 service moves to being Evening Prayer on Zoom only\n\nWe also hope to Zoom
  this service - please email services@christchurch-eaton.org.uk for detail
 s
GEO:1.272391;52.618486
LOCATION:Christ Church\, Eaton
URL:https://christchurch-eaton.org.uk/whats-on/services/
END:VEVENT
BEGIN:VEVENT
SUMMARY:BCP Evensong
DTSTART;TZID=Europe/London:20260524T180000
DTEND;TZID=Europe/London:20260524T190000
DTSTAMP:20260423T055337Z
UID:580482026-05-24 18:00:00+01:00achurchnearyou
CATEGORIES:
DESCRIPTION:Sung Evensong with four hymns\, psalm and canticles to Anglica
 n chant\, and a sermon\, lasting about an hour. There will be BCP Choral E
 vensong on the first Sunday of the month\n\nDuring the winter months this 
 service moves to being Evening Prayer on Zoom only\n\nWe also hope to Zoom
  this service - please email services@christchurch-eaton.org.uk for detail
 s
GEO:1.272391;52.618486
LOCATION:Christ Church\, Eaton
URL:https://christchurch-eaton.org.uk/whats-on/services/
END:VEVENT
BEGIN:VEVENT
SUMMARY:BCP Evensong
DTSTART;TZID=Europe/London:20260531T180000
DTEND;TZID=Europe/London:20260531T190000
DTSTAMP:20260423T055337Z
UID:580482026-05-31 18:00:00+01:00achurchnearyou
CATEGORIES:
DESCRIPTION:Sung Evensong with four hymns\, psalm and canticles to Anglica
 n chant\, and a sermon\, lasting about an hour. There will be BCP Choral E
 vensong on the first Sunday of the month\n\nDuring the winter months this 
 service moves to being Evening Prayer on Zoom only\n\nWe also hope to Zoom
  this service - please email services@christchurch-eaton.org.uk for detail
 s
GEO:1.272391;52.618486
LOCATION:Christ Church\, Eaton
URL:https://christchurch-eaton.org.uk/whats-on/services/
END:VEVENT
BEGIN:VEVENT
SUMMARY:BCP Evensong
DTSTART;TZID=Europe/London:20260614T180000
DTEND;TZID=Europe/London:20260614T190000
DTSTAMP:20260423T055337Z
UID:580482026-06-14 18:00:00+01:00achurchnearyou
CATEGORIES:
DESCRIPTION:Sung Evensong with four hymns\, psalm and canticles to Anglica
 n chant\, and a sermon\, lasting about an hour. There will be BCP Choral E
 vensong on the first Sunday of the month\n\nDuring the winter months this 
 service moves to being Evening Prayer on Zoom only\n\nWe also hope to Zoom
  this service - please email services@christchurch-eaton.org.uk for detail
 s
GEO:1.272391;52.618486
LOCATION:Christ Church\, Eaton
URL:https://christchurch-eaton.org.uk/whats-on/services/
END:VEVENT
BEGIN:VEVENT
SUMMARY:BCP Evensong
DTSTART;TZID=Europe/London:20260621T180000
DTEND;TZID=Europe/London:20260621T190000
DTSTAMP:20260423T055337Z
UID:580482026-06-21 18:00:00+01:00achurchnearyou
CATEGORIES:
DESCRIPTION:Sung Evensong with four hymns\, psalm and canticles to Anglica
 n chant\, and a sermon\, lasting about an hour. There will be BCP Choral E
 vensong on the first Sunday of the month\n\nDuring the winter months this 
 service moves to being Evening Prayer on Zoom only\n\nWe also hope to Zoom
  this service - please email services@christchurch-eaton.org.uk for detail
 s
GEO:1.272391;52.618486
LOCATION:Christ Church\, Eaton
URL:https://christchurch-eaton.org.uk/whats-on/services/
END:VEVENT
BEGIN:VEVENT
SUMMARY:BCP Evensong
DTSTART;TZID=Europe/London:20260628T180000
DTEND;TZID=Europe/London:20260628T190000
DTSTAMP:20260423T055337Z
UID:580482026-06-28 18:00:00+01:00achurchnearyou
CATEGORIES:
DESCRIPTION:Sung Evensong with four hymns\, psalm and canticles to Anglica
 n chant\, and a sermon\, lasting about an hour. There will be BCP Choral E
 vensong on the first Sunday of the month\n\nDuring the winter months this 
 service moves to being Evening Prayer on Zoom only\n\nWe also hope to Zoom
  this service - please email services@christchurch-eaton.org.uk for detail
 s
GEO:1.272391;52.618486
LOCATION:Christ Church\, Eaton
URL:https://christchurch-eaton.org.uk/whats-on/services/
END:VEVENT
BEGIN:VEVENT
SUMMARY:BCP Evensong
DTSTART;TZID=Europe/London:20260712T180000
DTEND;TZID=Europe/London:20260712T190000
DTSTAMP:20260423T055337Z
UID:580482026-07-12 18:00:00+01:00achurchnearyou
CATEGORIES:
DESCRIPTION:Sung Evensong with four hymns\, psalm and canticles to Anglica
 n chant\, and a sermon\, lasting about an hour. There will be BCP Choral E
 vensong on the first Sunday of the month\n\nDuring the winter months this 
 service moves to being Evening Prayer on Zoom only\n\nWe also hope to Zoom
  this service - please email services@christchurch-eaton.org.uk for detail
 s
GEO:1.272391;52.618486
LOCATION:Christ Church\, Eaton
URL:https://christchurch-eaton.org.uk/whats-on/services/
END:VEVENT
BEGIN:VEVENT
SUMMARY:BCP Evensong
DTSTART;TZID=Europe/London:20260719T180000
DTEND;TZID=Europe/London:20260719T190000
DTSTAMP:20260423T055337Z
UID:580482026-07-19 18:00:00+01:00achurchnearyou
CATEGORIES:
DESCRIPTION:Sung Evensong with four hymns\, psalm and canticles to Anglica
 n chant\, and a sermon\, lasting about an hour. There will be BCP Choral E
 vensong on the first Sunday of the month\n\nDuring the winter months this 
 service moves to being Evening Prayer on Zoom only\n\nWe also hope to Zoom
  this service - please email services@christchurch-eaton.org.uk for detail
 s
GEO:1.272391;52.618486
LOCATION:Christ Church\, Eaton
URL:https://christchurch-eaton.org.uk/whats-on/services/
END:VEVENT
BEGIN:VEVENT
SUMMARY:BCP Evensong
DTSTART;TZID=Europe/London:20260726T180000
DTEND;TZID=Europe/London:20260726T190000
DTSTAMP:20260423T055337Z
UID:580482026-07-26 18:00:00+01:00achurchnearyou
CATEGORIES:
DESCRIPTION:Sung Evensong with four hymns\, psalm and canticles to Anglica
 n chant\, and a sermon\, lasting about an hour. There will be BCP Choral E
 vensong on the first Sunday of the month\n\nDuring the winter months this 
 service moves to being Evening Prayer on Zoom only\n\nWe also hope to Zoom
  this service - please email services@christchurch-eaton.org.uk for detail
 s
GEO:1.272391;52.618486
LOCATION:Christ Church\, Eaton
URL:https://christchurch-eaton.org.uk/whats-on/services/
END:VEVENT
BEGIN:VEVENT
SUMMARY:BCP Evensong
DTSTART;TZID=Europe/London:20260802T180000
DTEND;TZID=Europe/London:20260802T190000
DTSTAMP:20260423T055337Z
UID:580482026-08-02 18:00:00+01:00achurchnearyou
CATEGORIES:
DESCRIPTION:Sung Evensong with four hymns\, psalm and canticles to Anglica
 n chant\, and a sermon\, lasting about an hour. There will be BCP Choral E
 vensong on the first Sunday of the month\n\nDuring the winter months this 
 service moves to being Evening Prayer on Zoom only\n\nWe also hope to Zoom
  this service - please email services@christchurch-eaton.org.uk for detail
 s
GEO:1.272391;52.618486
LOCATION:Christ Church\, Eaton
URL:https://christchurch-eaton.org.uk/whats-on/services/
END:VEVENT
BEGIN:VEVENT
SUMMARY:BCP Evensong
DTSTART;TZID=Europe/London:20260809T180000
DTEND;TZID=Europe/London:20260809T190000
DTSTAMP:20260423T055337Z
UID:580482026-08-09 18:00:00+01:00achurchnearyou
CATEGORIES:
DESCRIPTION:Sung Evensong with four hymns\, psalm and canticles to Anglica
 n chant\, and a sermon\, lasting about an hour. There will be BCP Choral E
 vensong on the first Sunday of the month\n\nDuring the winter months this 
 service moves to being Evening Prayer on Zoom only\n\nWe also hope to Zoom
  this service - please email services@christchurch-eaton.org.uk for detail
 s
GEO:1.272391;52.618486
LOCATION:Christ Church\, Eaton
URL:https://christchurch-eaton.org.uk/whats-on/services/
END:VEVENT
BEGIN:VEVENT
SUMMARY:BCP Evensong
DTSTART;TZID=Europe/London:20260816T180000
DTEND;TZID=Europe/London:20260816T190000
DTSTAMP:20260423T055337Z
UID:580482026-08-16 18:00:00+01:00achurchnearyou
CATEGORIES:
DESCRIPTION:Sung Evensong with four hymns\, psalm and canticles to Anglica
 n chant\, and a sermon\, lasting about an hour. There will be BCP Choral E
 vensong on the first Sunday of the month\n\nDuring the winter months this 
 service moves to being Evening Prayer on Zoom only\n\nWe also hope to Zoom
  this service - please email services@christchurch-eaton.org.uk for detail
 s
GEO:1.272391;52.618486
LOCATION:Christ Church\, Eaton
URL:https://christchurch-eaton.org.uk/whats-on/services/
END:VEVENT
BEGIN:VEVENT
SUMMARY:BCP Evensong
DTSTART;TZID=Europe/London:20260823T180000
DTEND;TZID=Europe/London:20260823T190000
DTSTAMP:20260423T055337Z
UID:580482026-08-23 18:00:00+01:00achurchnearyou
CATEGORIES:
DESCRIPTION:Sung Evensong with four hymns\, psalm and canticles to Anglica
 n chant\, and a sermon\, lasting about an hour. There will be BCP Choral E
 vensong on the first Sunday of the month\n\nDuring the winter months this 
 service moves to being Evening Prayer on Zoom only\n\nWe also hope to Zoom
  this service - please email services@christchurch-eaton.org.uk for detail
 s
GEO:1.272391;52.618486
LOCATION:Christ Church\, Eaton
URL:https://christchurch-eaton.org.uk/whats-on/services/
END:VEVENT
BEGIN:VEVENT
SUMMARY:BCP Evensong
DTSTART;TZID=Europe/London:20260830T180000
DTEND;TZID=Europe/London:20260830T190000
DTSTAMP:20260423T055337Z
UID:580482026-08-30 18:00:00+01:00achurchnearyou
CATEGORIES:
DESCRIPTION:Sung Evensong with four hymns\, psalm and canticles to Anglica
 n chant\, and a sermon\, lasting about an hour. There will be BCP Choral E
 vensong on the first Sunday of the month\n\nDuring the winter months this 
 service moves to being Evening Prayer on Zoom only\n\nWe also hope to Zoom
  this service - please email services@christchurch-eaton.org.uk for detail
 s
GEO:1.272391;52.618486
LOCATION:Christ Church\, Eaton
URL:https://christchurch-eaton.org.uk/whats-on/services/
END:VEVENT
BEGIN:VEVENT
SUMMARY:BCP Evensong
DTSTART;TZID=Europe/London:20260913T180000
DTEND;TZID=Europe/London:20260913T190000
DTSTAMP:20260423T055337Z
UID:580482026-09-13 18:00:00+01:00achurchnearyou
CATEGORIES:
DESCRIPTION:Sung Evensong with four hymns\, psalm and canticles to Anglica
 n chant\, and a sermon\, lasting about an hour. There will be BCP Choral E
 vensong on the first Sunday of the month\n\nDuring the winter months this 
 service moves to being Evening Prayer on Zoom only\n\nWe also hope to Zoom
  this service - please email services@christchurch-eaton.org.uk for detail
 s
GEO:1.272391;52.618486
LOCATION:Christ Church\, Eaton
URL:https://christchurch-eaton.org.uk/whats-on/services/
END:VEVENT
BEGIN:VEVENT
SUMMARY:BCP Evensong
DTSTART;TZID=Europe/London:20260920T180000
DTEND;TZID=Europe/London:20260920T190000
DTSTAMP:20260423T055337Z
UID:580482026-09-20 18:00:00+01:00achurchnearyou
CATEGORIES:
DESCRIPTION:Sung Evensong with four hymns\, psalm and canticles to Anglica
 n chant\, and a sermon\, lasting about an hour. There will be BCP Choral E
 vensong on the first Sunday of the month\n\nDuring the winter months this 
 service moves to being Evening Prayer on Zoom only\n\nWe also hope to Zoom
  this service - please email services@christchurch-eaton.org.uk for detail
 s
GEO:1.272391;52.618486
LOCATION:Christ Church\, Eaton
URL:https://christchurch-eaton.org.uk/whats-on/services/
END:VEVENT
BEGIN:VEVENT
SUMMARY:BCP Evensong
DTSTART;TZID=Europe/London:20260927T180000
DTEND;TZID=Europe/London:20260927T190000
DTSTAMP:20260423T055337Z
UID:580482026-09-27 18:00:00+01:00achurchnearyou
CATEGORIES:
DESCRIPTION:Sung Evensong with four hymns\, psalm and canticles to Anglica
 n chant\, and a sermon\, lasting about an hour. There will be BCP Choral E
 vensong on the first Sunday of the month\n\nDuring the winter months this 
 service moves to being Evening Prayer on Zoom only\n\nWe also hope to Zoom
  this service - please email services@christchurch-eaton.org.uk for detail
 s
GEO:1.272391;52.618486
LOCATION:Christ Church\, Eaton
URL:https://christchurch-eaton.org.uk/whats-on/services/
END:VEVENT
BEGIN:VEVENT
SUMMARY:BCP Evensong
DTSTART;TZID=Europe/London:20261011T180000
DTEND;TZID=Europe/London:20261011T190000
DTSTAMP:20260423T055337Z
UID:580482026-10-11 18:00:00+01:00achurchnearyou
CATEGORIES:
DESCRIPTION:Sung Evensong with four hymns\, psalm and canticles to Anglica
 n chant\, and a sermon\, lasting about an hour. There will be BCP Choral E
 vensong on the first Sunday of the month\n\nDuring the winter months this 
 service moves to being Evening Prayer on Zoom only\n\nWe also hope to Zoom
  this service - please email services@christchurch-eaton.org.uk for detail
 s
GEO:1.272391;52.618486
LOCATION:Christ Church\, Eaton
URL:https://christchurch-eaton.org.uk/whats-on/services/
END:VEVENT
BEGIN:VEVENT
SUMMARY:BCP Evensong
DTSTART;TZID=Europe/London:20261018T180000
DTEND;TZID=Europe/London:20261018T190000
DTSTAMP:20260423T055337Z
UID:580482026-10-18 18:00:00+01:00achurchnearyou
CATEGORIES:
DESCRIPTION:Sung Evensong with four hymns\, psalm and canticles to Anglica
 n chant\, and a sermon\, lasting about an hour. There will be BCP Choral E
 vensong on the first Sunday of the month\n\nDuring the winter months this 
 service moves to being Evening Prayer on Zoom only\n\nWe also hope to Zoom
  this service - please email services@christchurch-eaton.org.uk for detail
 s
GEO:1.272391;52.618486
LOCATION:Christ Church\, Eaton
URL:https://christchurch-eaton.org.uk/whats-on/services/
END:VEVENT
END:VCALENDAR
