BEGIN:VCALENDAR
VERSION:2.0
PRODID:-//achurchnearyou.com//eventfeed//EN
CALSCALE:GREGORIAN
METHOD:PUBLISH
X-WR-TIMEZONE:UTC
BEGIN:VEVENT
SUMMARY:Spring Coffee Morning
DTSTART:20260418T090000Z
DTEND:20260418T113000Z
DTSTAMP:20260423T150528Z
UID:7418892026-04-18 09:00:00+00:00achurchnearyou
CATEGORIES:
DESCRIPTION:In aid of the Church Mission Society. Entrance £2 (free for U
 16s) to include coffee/tea and biscuits\n•	Homemade Cakes\, Savouries an
 d Preserves \n•	Books \n•	Plants \n•	Gifts and General Items (in goo
 d condition)\n•	Raffle and puzzles\n•	Crafts
LOCATION:St Andrew's Church Hall
URL:https://www.achurchnearyou.com/church/10031/service-and-events/events/
 741889/
END:VEVENT
END:VCALENDAR
