BEGIN:VCALENDAR
VERSION:2.0
PRODID:-//achurchnearyou.com//eventfeed//EN
CALSCALE:GREGORIAN
METHOD:PUBLISH
X-WR-TIMEZONE:UTC
BEGIN:VEVENT
SUMMARY:Benefice Service at Northrepps - Palm Sunday
DTSTART:20250413T160000Z
DTEND:20250413T170000Z
DTSTAMP:20260425T012639Z
UID:11875712025-04-13 16:00:00+00:00achurchnearyou
CATEGORIES:
DESCRIPTION:Our Palm Sunday procession and service will be held at 5.00pm 
 due to the Norfolk Marathon in the morning.
LOCATION:Northrepps: St.Mary The Virgin
URL:https://www.achurchnearyou.com/church/10043/service-and-events/events/
 1187571/
END:VEVENT
END:VCALENDAR
