BEGIN:VCALENDAR
VERSION:2.0
PRODID:-//achurchnearyou.com//eventfeed//EN
CALSCALE:GREGORIAN
METHOD:PUBLISH
X-WR-TIMEZONE:UTC
BEGIN:VEVENT
SUMMARY:Services in the Poppyland Benefice on August 17
DTSTART:20250817T090000Z
DTEND:20250817T100000Z
DTSTAMP:20260424T090749Z
UID:12171172025-08-17 09:00:00+00:00achurchnearyou
CATEGORIES:
DESCRIPTION:Sunday August 17th\n\n10am Northrepps (MW)\n10am Overstrand (M
 W)\n10am Southrepps (HC)
LOCATION:Northrepps: St.Mary The Virgin\nSt Martins Overstrand\nSouthrepps
 : St James
URL:https://www.achurchnearyou.com/church/10043/service-and-events/events/
 1217117/
END:VEVENT
END:VCALENDAR
