BEGIN:VCALENDAR
VERSION:2.0
PRODID:-//achurchnearyou.com//eventfeed//EN
CALSCALE:GREGORIAN
METHOD:PUBLISH
X-WR-TIMEZONE:UTC
BEGIN:VEVENT
SUMMARY:Services in the Poppyland Benefice on September 7th
DTSTART:20250907T090000Z
DTEND:20250907T100000Z
DTSTAMP:20260424T044654Z
UID:12203012025-09-07 09:00:00+00:00achurchnearyou
CATEGORIES:
DESCRIPTION:10am Northrepps (HC)\n10am Overstrand (MW)\n10am Southrepps (H
 C)\n11am Trimingham (HC)
LOCATION:Northrepps: St.Mary The Virgin\nTrimingham: St John the Baptist\n
 St Martins Overstrand\nSouthrepps: St James
URL:https://www.achurchnearyou.com/church/10043/service-and-events/events/
 1220301/
END:VEVENT
END:VCALENDAR
