BEGIN:VCALENDAR
VERSION:2.0
PRODID:-//achurchnearyou.com//eventfeed//EN
CALSCALE:GREGORIAN
METHOD:PUBLISH
X-WR-TIMEZONE:UTC
BEGIN:VEVENT
SUMMARY:Carols at The Fox
DTSTART:20251218T180000Z
DTEND:20251218T193000Z
DTSTAMP:20260425T181704Z
UID:12726992025-12-18 18:00:00+00:00achurchnearyou
CATEGORIES:
DESCRIPTION:A chance to sing some Christmas carols in a wonderfully welcom
 ing pub.
GEO:1.062048;52.718776
LOCATION:Lyng: St Margaret
URL:https://www.achurchnearyou.com/church/10058/service-and-events/events/
 1272699/
END:VEVENT
END:VCALENDAR
