BEGIN:VCALENDAR
VERSION:2.0
PRODID:-//achurchnearyou.com//eventfeed//EN
CALSCALE:GREGORIAN
METHOD:PUBLISH
X-WR-TIMEZONE:UTC
BEGIN:VEVENT
SUMMARY:Morning Prayer (Common Worship)
DTSTART:20250105T110000Z
DTEND:20250105T120000Z
DTSTAMP:20260419T150335Z
UID:11460202025-01-05 11:00:00+00:00achurchnearyou
CATEGORIES:
DESCRIPTION:A Common Worship Morning Prayer service with hymns and refresh
 ments afterwards.
LOCATION:Dilham: St Nicholas
URL:https://www.achurchnearyou.com/church/10079/service-and-events/events/
 1146020/
END:VEVENT
END:VCALENDAR
