BEGIN:VCALENDAR
VERSION:2.0
PRODID:-//achurchnearyou.com//eventfeed//EN
CALSCALE:GREGORIAN
METHOD:PUBLISH
X-WR-TIMEZONE:UTC
BEGIN:VEVENT
SUMMARY:Morning Prayer with Coffee
DTSTART;TZID=Europe/London:20260402T091500
DTEND;TZID=Europe/London:20260402T100000
DTSTAMP:20260425T160114Z
UID:9491851775117700.0achurchnearyou
CATEGORIES:
DESCRIPTION:We pray for the community and the world using Common Worship D
 aily Prayer.  We meet at a members home\, so please contact revnaomituma@g
 mail.com to arrange to join us.  All are welcome.
URL:https://www.achurchnearyou.com/church/10084/service-and-events/events/
 949185/
END:VEVENT
BEGIN:VEVENT
SUMMARY:Holy Communion
DTSTART;TZID=Europe/London:20260405T103000
DTEND;TZID=Europe/London:20260405T113000
DTSTAMP:20260425T160114Z
UID:9491721775381400.0achurchnearyou
CATEGORIES:
DESCRIPTION:Every Sunday except 3rd Sunday of the month
GEO:1.377958;52.662842
LOCATION:Rackheath: Holy Trinity
URL:https://www.achurchnearyou.com/church/10084/service-and-events/events/
 949172/
END:VEVENT
BEGIN:VEVENT
SUMMARY:Morning Prayer with Coffee
DTSTART;TZID=Europe/London:20260409T091500
DTEND;TZID=Europe/London:20260409T100000
DTSTAMP:20260425T160114Z
UID:9491851775722500.0achurchnearyou
CATEGORIES:
DESCRIPTION:We pray for the community and the world using Common Worship D
 aily Prayer.  We meet at a members home\, so please contact revnaomituma@g
 mail.com to arrange to join us.  All are welcome.
URL:https://www.achurchnearyou.com/church/10084/service-and-events/events/
 949185/
END:VEVENT
BEGIN:VEVENT
SUMMARY:Holy Communion
DTSTART;TZID=Europe/London:20260412T103000
DTEND;TZID=Europe/London:20260412T113000
DTSTAMP:20260425T160114Z
UID:9491721775986200.0achurchnearyou
CATEGORIES:
DESCRIPTION:Every Sunday except 3rd Sunday of the month
GEO:1.377958;52.662842
LOCATION:Rackheath: Holy Trinity
URL:https://www.achurchnearyou.com/church/10084/service-and-events/events/
 949172/
END:VEVENT
BEGIN:VEVENT
SUMMARY:Morning Prayer with Coffee
DTSTART;TZID=Europe/London:20260416T091500
DTEND;TZID=Europe/London:20260416T100000
DTSTAMP:20260425T160114Z
UID:9491851776327300.0achurchnearyou
CATEGORIES:
DESCRIPTION:We pray for the community and the world using Common Worship D
 aily Prayer.  We meet at a members home\, so please contact revnaomituma@g
 mail.com to arrange to join us.  All are welcome.
URL:https://www.achurchnearyou.com/church/10084/service-and-events/events/
 949185/
END:VEVENT
BEGIN:VEVENT
SUMMARY:Third Sunday Praise
DTSTART;TZID=Europe/London:20260419T103000
DTEND;TZID=Europe/London:20260419T113000
DTSTAMP:20260425T160114Z
UID:10792061776591000.0achurchnearyou
CATEGORIES:
DESCRIPTION:An informal service of Hymns\, Prayers\, Bible readings and a 
 Sermon/Talk at Rackheath
GEO:1.377958;52.662842
LOCATION:Rackheath: Holy Trinity
URL:https://www.achurchnearyou.com/church/10084/service-and-events/events/
 1079206/
END:VEVENT
BEGIN:VEVENT
SUMMARY:Morning Prayer with Coffee
DTSTART;TZID=Europe/London:20260423T091500
DTEND;TZID=Europe/London:20260423T100000
DTSTAMP:20260425T160114Z
UID:9491851776932100.0achurchnearyou
CATEGORIES:
DESCRIPTION:We pray for the community and the world using Common Worship D
 aily Prayer.  We meet at a members home\, so please contact revnaomituma@g
 mail.com to arrange to join us.  All are welcome.
URL:https://www.achurchnearyou.com/church/10084/service-and-events/events/
 949185/
END:VEVENT
BEGIN:VEVENT
SUMMARY:Holy Communion
DTSTART;TZID=Europe/London:20260426T103000
DTEND;TZID=Europe/London:20260426T113000
DTSTAMP:20260425T160114Z
UID:9491721777195800.0achurchnearyou
CATEGORIES:
DESCRIPTION:Every Sunday except 3rd Sunday of the month
GEO:1.377958;52.662842
LOCATION:Rackheath: Holy Trinity
URL:https://www.achurchnearyou.com/church/10084/service-and-events/events/
 949172/
END:VEVENT
BEGIN:VEVENT
SUMMARY:Morning Prayer with Coffee
DTSTART;TZID=Europe/London:20260430T091500
DTEND;TZID=Europe/London:20260430T100000
DTSTAMP:20260425T160114Z
UID:9491851777536900.0achurchnearyou
CATEGORIES:
DESCRIPTION:We pray for the community and the world using Common Worship D
 aily Prayer.  We meet at a members home\, so please contact revnaomituma@g
 mail.com to arrange to join us.  All are welcome.
URL:https://www.achurchnearyou.com/church/10084/service-and-events/events/
 949185/
END:VEVENT
BEGIN:VEVENT
SUMMARY:Holy Communion
DTSTART;TZID=Europe/London:20260503T103000
DTEND;TZID=Europe/London:20260503T113000
DTSTAMP:20260425T160114Z
UID:9491721777800600.0achurchnearyou
CATEGORIES:
DESCRIPTION:Every Sunday except 3rd Sunday of the month
GEO:1.377958;52.662842
LOCATION:Rackheath: Holy Trinity
URL:https://www.achurchnearyou.com/church/10084/service-and-events/events/
 949172/
END:VEVENT
BEGIN:VEVENT
SUMMARY:Morning Prayer with Coffee
DTSTART;TZID=Europe/London:20260507T091500
DTEND;TZID=Europe/London:20260507T100000
DTSTAMP:20260425T160114Z
UID:9491851778141700.0achurchnearyou
CATEGORIES:
DESCRIPTION:We pray for the community and the world using Common Worship D
 aily Prayer.  We meet at a members home\, so please contact revnaomituma@g
 mail.com to arrange to join us.  All are welcome.
URL:https://www.achurchnearyou.com/church/10084/service-and-events/events/
 949185/
END:VEVENT
BEGIN:VEVENT
SUMMARY:Holy Communion
DTSTART;TZID=Europe/London:20260510T103000
DTEND;TZID=Europe/London:20260510T113000
DTSTAMP:20260425T160114Z
UID:9491721778405400.0achurchnearyou
CATEGORIES:
DESCRIPTION:Every Sunday except 3rd Sunday of the month
GEO:1.377958;52.662842
LOCATION:Rackheath: Holy Trinity
URL:https://www.achurchnearyou.com/church/10084/service-and-events/events/
 949172/
END:VEVENT
BEGIN:VEVENT
SUMMARY:Morning Prayer with Coffee
DTSTART;TZID=Europe/London:20260514T091500
DTEND;TZID=Europe/London:20260514T100000
DTSTAMP:20260425T160114Z
UID:9491851778746500.0achurchnearyou
CATEGORIES:
DESCRIPTION:We pray for the community and the world using Common Worship D
 aily Prayer.  We meet at a members home\, so please contact revnaomituma@g
 mail.com to arrange to join us.  All are welcome.
URL:https://www.achurchnearyou.com/church/10084/service-and-events/events/
 949185/
END:VEVENT
BEGIN:VEVENT
SUMMARY:Third Sunday Praise
DTSTART;TZID=Europe/London:20260517T103000
DTEND;TZID=Europe/London:20260517T113000
DTSTAMP:20260425T160114Z
UID:10792061779010200.0achurchnearyou
CATEGORIES:
DESCRIPTION:An informal service of Hymns\, Prayers\, Bible readings and a 
 Sermon/Talk at Rackheath
GEO:1.377958;52.662842
LOCATION:Rackheath: Holy Trinity
URL:https://www.achurchnearyou.com/church/10084/service-and-events/events/
 1079206/
END:VEVENT
BEGIN:VEVENT
SUMMARY:Morning Prayer with Coffee
DTSTART;TZID=Europe/London:20260521T091500
DTEND;TZID=Europe/London:20260521T100000
DTSTAMP:20260425T160114Z
UID:9491851779351300.0achurchnearyou
CATEGORIES:
DESCRIPTION:We pray for the community and the world using Common Worship D
 aily Prayer.  We meet at a members home\, so please contact revnaomituma@g
 mail.com to arrange to join us.  All are welcome.
URL:https://www.achurchnearyou.com/church/10084/service-and-events/events/
 949185/
END:VEVENT
BEGIN:VEVENT
SUMMARY:Holy Communion
DTSTART;TZID=Europe/London:20260524T103000
DTEND;TZID=Europe/London:20260524T113000
DTSTAMP:20260425T160114Z
UID:9491721779615000.0achurchnearyou
CATEGORIES:
DESCRIPTION:Every Sunday except 3rd Sunday of the month
GEO:1.377958;52.662842
LOCATION:Rackheath: Holy Trinity
URL:https://www.achurchnearyou.com/church/10084/service-and-events/events/
 949172/
END:VEVENT
BEGIN:VEVENT
SUMMARY:Morning Prayer with Coffee
DTSTART;TZID=Europe/London:20260528T091500
DTEND;TZID=Europe/London:20260528T100000
DTSTAMP:20260425T160114Z
UID:9491851779956100.0achurchnearyou
CATEGORIES:
DESCRIPTION:We pray for the community and the world using Common Worship D
 aily Prayer.  We meet at a members home\, so please contact revnaomituma@g
 mail.com to arrange to join us.  All are welcome.
URL:https://www.achurchnearyou.com/church/10084/service-and-events/events/
 949185/
END:VEVENT
BEGIN:VEVENT
SUMMARY:Holy Communion
DTSTART;TZID=Europe/London:20260531T103000
DTEND;TZID=Europe/London:20260531T113000
DTSTAMP:20260425T160114Z
UID:9491721780219800.0achurchnearyou
CATEGORIES:
DESCRIPTION:Every Sunday except 3rd Sunday of the month
GEO:1.377958;52.662842
LOCATION:Rackheath: Holy Trinity
URL:https://www.achurchnearyou.com/church/10084/service-and-events/events/
 949172/
END:VEVENT
BEGIN:VEVENT
SUMMARY:Morning Prayer with Coffee
DTSTART;TZID=Europe/London:20260604T091500
DTEND;TZID=Europe/London:20260604T100000
DTSTAMP:20260425T160114Z
UID:9491851780560900.0achurchnearyou
CATEGORIES:
DESCRIPTION:We pray for the community and the world using Common Worship D
 aily Prayer.  We meet at a members home\, so please contact revnaomituma@g
 mail.com to arrange to join us.  All are welcome.
URL:https://www.achurchnearyou.com/church/10084/service-and-events/events/
 949185/
END:VEVENT
BEGIN:VEVENT
SUMMARY:Holy Communion
DTSTART;TZID=Europe/London:20260607T103000
DTEND;TZID=Europe/London:20260607T113000
DTSTAMP:20260425T160114Z
UID:9491721780824600.0achurchnearyou
CATEGORIES:
DESCRIPTION:Every Sunday except 3rd Sunday of the month
GEO:1.377958;52.662842
LOCATION:Rackheath: Holy Trinity
URL:https://www.achurchnearyou.com/church/10084/service-and-events/events/
 949172/
END:VEVENT
BEGIN:VEVENT
SUMMARY:Morning Prayer with Coffee
DTSTART;TZID=Europe/London:20260611T091500
DTEND;TZID=Europe/London:20260611T100000
DTSTAMP:20260425T160114Z
UID:9491851781165700.0achurchnearyou
CATEGORIES:
DESCRIPTION:We pray for the community and the world using Common Worship D
 aily Prayer.  We meet at a members home\, so please contact revnaomituma@g
 mail.com to arrange to join us.  All are welcome.
URL:https://www.achurchnearyou.com/church/10084/service-and-events/events/
 949185/
END:VEVENT
BEGIN:VEVENT
SUMMARY:Holy Communion
DTSTART;TZID=Europe/London:20260614T103000
DTEND;TZID=Europe/London:20260614T113000
DTSTAMP:20260425T160114Z
UID:9491721781429400.0achurchnearyou
CATEGORIES:
DESCRIPTION:Every Sunday except 3rd Sunday of the month
GEO:1.377958;52.662842
LOCATION:Rackheath: Holy Trinity
URL:https://www.achurchnearyou.com/church/10084/service-and-events/events/
 949172/
END:VEVENT
BEGIN:VEVENT
SUMMARY:Morning Prayer with Coffee
DTSTART;TZID=Europe/London:20260618T091500
DTEND;TZID=Europe/London:20260618T100000
DTSTAMP:20260425T160114Z
UID:9491851781770500.0achurchnearyou
CATEGORIES:
DESCRIPTION:We pray for the community and the world using Common Worship D
 aily Prayer.  We meet at a members home\, so please contact revnaomituma@g
 mail.com to arrange to join us.  All are welcome.
URL:https://www.achurchnearyou.com/church/10084/service-and-events/events/
 949185/
END:VEVENT
BEGIN:VEVENT
SUMMARY:Third Sunday Praise
DTSTART;TZID=Europe/London:20260621T103000
DTEND;TZID=Europe/London:20260621T113000
DTSTAMP:20260425T160114Z
UID:10792061782034200.0achurchnearyou
CATEGORIES:
DESCRIPTION:An informal service of Hymns\, Prayers\, Bible readings and a 
 Sermon/Talk at Rackheath
GEO:1.377958;52.662842
LOCATION:Rackheath: Holy Trinity
URL:https://www.achurchnearyou.com/church/10084/service-and-events/events/
 1079206/
END:VEVENT
BEGIN:VEVENT
SUMMARY:Morning Prayer with Coffee
DTSTART;TZID=Europe/London:20260625T091500
DTEND;TZID=Europe/London:20260625T100000
DTSTAMP:20260425T160114Z
UID:9491851782375300.0achurchnearyou
CATEGORIES:
DESCRIPTION:We pray for the community and the world using Common Worship D
 aily Prayer.  We meet at a members home\, so please contact revnaomituma@g
 mail.com to arrange to join us.  All are welcome.
URL:https://www.achurchnearyou.com/church/10084/service-and-events/events/
 949185/
END:VEVENT
BEGIN:VEVENT
SUMMARY:Holy Communion
DTSTART;TZID=Europe/London:20260628T103000
DTEND;TZID=Europe/London:20260628T113000
DTSTAMP:20260425T160114Z
UID:9491721782639000.0achurchnearyou
CATEGORIES:
DESCRIPTION:Every Sunday except 3rd Sunday of the month
GEO:1.377958;52.662842
LOCATION:Rackheath: Holy Trinity
URL:https://www.achurchnearyou.com/church/10084/service-and-events/events/
 949172/
END:VEVENT
BEGIN:VEVENT
SUMMARY:Morning Prayer with Coffee
DTSTART;TZID=Europe/London:20260702T091500
DTEND;TZID=Europe/London:20260702T100000
DTSTAMP:20260425T160114Z
UID:9491851782980100.0achurchnearyou
CATEGORIES:
DESCRIPTION:We pray for the community and the world using Common Worship D
 aily Prayer.  We meet at a members home\, so please contact revnaomituma@g
 mail.com to arrange to join us.  All are welcome.
URL:https://www.achurchnearyou.com/church/10084/service-and-events/events/
 949185/
END:VEVENT
BEGIN:VEVENT
SUMMARY:Holy Communion
DTSTART;TZID=Europe/London:20260705T103000
DTEND;TZID=Europe/London:20260705T113000
DTSTAMP:20260425T160114Z
UID:9491721783243800.0achurchnearyou
CATEGORIES:
DESCRIPTION:Every Sunday except 3rd Sunday of the month
GEO:1.377958;52.662842
LOCATION:Rackheath: Holy Trinity
URL:https://www.achurchnearyou.com/church/10084/service-and-events/events/
 949172/
END:VEVENT
BEGIN:VEVENT
SUMMARY:Morning Prayer with Coffee
DTSTART;TZID=Europe/London:20260709T091500
DTEND;TZID=Europe/London:20260709T100000
DTSTAMP:20260425T160114Z
UID:9491851783584900.0achurchnearyou
CATEGORIES:
DESCRIPTION:We pray for the community and the world using Common Worship D
 aily Prayer.  We meet at a members home\, so please contact revnaomituma@g
 mail.com to arrange to join us.  All are welcome.
URL:https://www.achurchnearyou.com/church/10084/service-and-events/events/
 949185/
END:VEVENT
BEGIN:VEVENT
SUMMARY:Holy Communion
DTSTART;TZID=Europe/London:20260712T103000
DTEND;TZID=Europe/London:20260712T113000
DTSTAMP:20260425T160114Z
UID:9491721783848600.0achurchnearyou
CATEGORIES:
DESCRIPTION:Every Sunday except 3rd Sunday of the month
GEO:1.377958;52.662842
LOCATION:Rackheath: Holy Trinity
URL:https://www.achurchnearyou.com/church/10084/service-and-events/events/
 949172/
END:VEVENT
BEGIN:VEVENT
SUMMARY:Morning Prayer with Coffee
DTSTART;TZID=Europe/London:20260716T091500
DTEND;TZID=Europe/London:20260716T100000
DTSTAMP:20260425T160114Z
UID:9491851784189700.0achurchnearyou
CATEGORIES:
DESCRIPTION:We pray for the community and the world using Common Worship D
 aily Prayer.  We meet at a members home\, so please contact revnaomituma@g
 mail.com to arrange to join us.  All are welcome.
URL:https://www.achurchnearyou.com/church/10084/service-and-events/events/
 949185/
END:VEVENT
BEGIN:VEVENT
SUMMARY:Third Sunday Praise
DTSTART;TZID=Europe/London:20260719T103000
DTEND;TZID=Europe/London:20260719T113000
DTSTAMP:20260425T160114Z
UID:10792061784453400.0achurchnearyou
CATEGORIES:
DESCRIPTION:An informal service of Hymns\, Prayers\, Bible readings and a 
 Sermon/Talk at Rackheath
GEO:1.377958;52.662842
LOCATION:Rackheath: Holy Trinity
URL:https://www.achurchnearyou.com/church/10084/service-and-events/events/
 1079206/
END:VEVENT
BEGIN:VEVENT
SUMMARY:Morning Prayer with Coffee
DTSTART;TZID=Europe/London:20260723T091500
DTEND;TZID=Europe/London:20260723T100000
DTSTAMP:20260425T160114Z
UID:9491851784794500.0achurchnearyou
CATEGORIES:
DESCRIPTION:We pray for the community and the world using Common Worship D
 aily Prayer.  We meet at a members home\, so please contact revnaomituma@g
 mail.com to arrange to join us.  All are welcome.
URL:https://www.achurchnearyou.com/church/10084/service-and-events/events/
 949185/
END:VEVENT
BEGIN:VEVENT
SUMMARY:Holy Communion
DTSTART;TZID=Europe/London:20260726T103000
DTEND;TZID=Europe/London:20260726T113000
DTSTAMP:20260425T160114Z
UID:9491721785058200.0achurchnearyou
CATEGORIES:
DESCRIPTION:Every Sunday except 3rd Sunday of the month
GEO:1.377958;52.662842
LOCATION:Rackheath: Holy Trinity
URL:https://www.achurchnearyou.com/church/10084/service-and-events/events/
 949172/
END:VEVENT
BEGIN:VEVENT
SUMMARY:Morning Prayer with Coffee
DTSTART;TZID=Europe/London:20260730T091500
DTEND;TZID=Europe/London:20260730T100000
DTSTAMP:20260425T160114Z
UID:9491851785399300.0achurchnearyou
CATEGORIES:
DESCRIPTION:We pray for the community and the world using Common Worship D
 aily Prayer.  We meet at a members home\, so please contact revnaomituma@g
 mail.com to arrange to join us.  All are welcome.
URL:https://www.achurchnearyou.com/church/10084/service-and-events/events/
 949185/
END:VEVENT
BEGIN:VEVENT
SUMMARY:Holy Communion
DTSTART;TZID=Europe/London:20260802T103000
DTEND;TZID=Europe/London:20260802T113000
DTSTAMP:20260425T160114Z
UID:9491721785663000.0achurchnearyou
CATEGORIES:
DESCRIPTION:Every Sunday except 3rd Sunday of the month
GEO:1.377958;52.662842
LOCATION:Rackheath: Holy Trinity
URL:https://www.achurchnearyou.com/church/10084/service-and-events/events/
 949172/
END:VEVENT
BEGIN:VEVENT
SUMMARY:Morning Prayer with Coffee
DTSTART;TZID=Europe/London:20260806T091500
DTEND;TZID=Europe/London:20260806T100000
DTSTAMP:20260425T160114Z
UID:9491851786004100.0achurchnearyou
CATEGORIES:
DESCRIPTION:We pray for the community and the world using Common Worship D
 aily Prayer.  We meet at a members home\, so please contact revnaomituma@g
 mail.com to arrange to join us.  All are welcome.
URL:https://www.achurchnearyou.com/church/10084/service-and-events/events/
 949185/
END:VEVENT
BEGIN:VEVENT
SUMMARY:Holy Communion
DTSTART;TZID=Europe/London:20260809T103000
DTEND;TZID=Europe/London:20260809T113000
DTSTAMP:20260425T160114Z
UID:9491721786267800.0achurchnearyou
CATEGORIES:
DESCRIPTION:Every Sunday except 3rd Sunday of the month
GEO:1.377958;52.662842
LOCATION:Rackheath: Holy Trinity
URL:https://www.achurchnearyou.com/church/10084/service-and-events/events/
 949172/
END:VEVENT
BEGIN:VEVENT
SUMMARY:Morning Prayer with Coffee
DTSTART;TZID=Europe/London:20260813T091500
DTEND;TZID=Europe/London:20260813T100000
DTSTAMP:20260425T160114Z
UID:9491851786608900.0achurchnearyou
CATEGORIES:
DESCRIPTION:We pray for the community and the world using Common Worship D
 aily Prayer.  We meet at a members home\, so please contact revnaomituma@g
 mail.com to arrange to join us.  All are welcome.
URL:https://www.achurchnearyou.com/church/10084/service-and-events/events/
 949185/
END:VEVENT
BEGIN:VEVENT
SUMMARY:Third Sunday Praise
DTSTART;TZID=Europe/London:20260816T103000
DTEND;TZID=Europe/London:20260816T113000
DTSTAMP:20260425T160114Z
UID:10792061786872600.0achurchnearyou
CATEGORIES:
DESCRIPTION:An informal service of Hymns\, Prayers\, Bible readings and a 
 Sermon/Talk at Rackheath
GEO:1.377958;52.662842
LOCATION:Rackheath: Holy Trinity
URL:https://www.achurchnearyou.com/church/10084/service-and-events/events/
 1079206/
END:VEVENT
BEGIN:VEVENT
SUMMARY:Morning Prayer with Coffee
DTSTART;TZID=Europe/London:20260820T091500
DTEND;TZID=Europe/London:20260820T100000
DTSTAMP:20260425T160114Z
UID:9491851787213700.0achurchnearyou
CATEGORIES:
DESCRIPTION:We pray for the community and the world using Common Worship D
 aily Prayer.  We meet at a members home\, so please contact revnaomituma@g
 mail.com to arrange to join us.  All are welcome.
URL:https://www.achurchnearyou.com/church/10084/service-and-events/events/
 949185/
END:VEVENT
BEGIN:VEVENT
SUMMARY:Holy Communion
DTSTART;TZID=Europe/London:20260823T103000
DTEND;TZID=Europe/London:20260823T113000
DTSTAMP:20260425T160114Z
UID:9491721787477400.0achurchnearyou
CATEGORIES:
DESCRIPTION:Every Sunday except 3rd Sunday of the month
GEO:1.377958;52.662842
LOCATION:Rackheath: Holy Trinity
URL:https://www.achurchnearyou.com/church/10084/service-and-events/events/
 949172/
END:VEVENT
BEGIN:VEVENT
SUMMARY:Morning Prayer with Coffee
DTSTART;TZID=Europe/London:20260827T091500
DTEND;TZID=Europe/London:20260827T100000
DTSTAMP:20260425T160114Z
UID:9491851787818500.0achurchnearyou
CATEGORIES:
DESCRIPTION:We pray for the community and the world using Common Worship D
 aily Prayer.  We meet at a members home\, so please contact revnaomituma@g
 mail.com to arrange to join us.  All are welcome.
URL:https://www.achurchnearyou.com/church/10084/service-and-events/events/
 949185/
END:VEVENT
BEGIN:VEVENT
SUMMARY:Holy Communion
DTSTART;TZID=Europe/London:20260830T103000
DTEND;TZID=Europe/London:20260830T113000
DTSTAMP:20260425T160114Z
UID:9491721788082200.0achurchnearyou
CATEGORIES:
DESCRIPTION:Every Sunday except 3rd Sunday of the month
GEO:1.377958;52.662842
LOCATION:Rackheath: Holy Trinity
URL:https://www.achurchnearyou.com/church/10084/service-and-events/events/
 949172/
END:VEVENT
BEGIN:VEVENT
SUMMARY:Morning Prayer with Coffee
DTSTART;TZID=Europe/London:20260903T091500
DTEND;TZID=Europe/London:20260903T100000
DTSTAMP:20260425T160114Z
UID:9491851788423300.0achurchnearyou
CATEGORIES:
DESCRIPTION:We pray for the community and the world using Common Worship D
 aily Prayer.  We meet at a members home\, so please contact revnaomituma@g
 mail.com to arrange to join us.  All are welcome.
URL:https://www.achurchnearyou.com/church/10084/service-and-events/events/
 949185/
END:VEVENT
BEGIN:VEVENT
SUMMARY:Holy Communion
DTSTART;TZID=Europe/London:20260906T103000
DTEND;TZID=Europe/London:20260906T113000
DTSTAMP:20260425T160114Z
UID:9491721788687000.0achurchnearyou
CATEGORIES:
DESCRIPTION:Every Sunday except 3rd Sunday of the month
GEO:1.377958;52.662842
LOCATION:Rackheath: Holy Trinity
URL:https://www.achurchnearyou.com/church/10084/service-and-events/events/
 949172/
END:VEVENT
BEGIN:VEVENT
SUMMARY:Morning Prayer with Coffee
DTSTART;TZID=Europe/London:20260910T091500
DTEND;TZID=Europe/London:20260910T100000
DTSTAMP:20260425T160114Z
UID:9491851789028100.0achurchnearyou
CATEGORIES:
DESCRIPTION:We pray for the community and the world using Common Worship D
 aily Prayer.  We meet at a members home\, so please contact revnaomituma@g
 mail.com to arrange to join us.  All are welcome.
URL:https://www.achurchnearyou.com/church/10084/service-and-events/events/
 949185/
END:VEVENT
BEGIN:VEVENT
SUMMARY:Holy Communion
DTSTART;TZID=Europe/London:20260913T103000
DTEND;TZID=Europe/London:20260913T113000
DTSTAMP:20260425T160114Z
UID:9491721789291800.0achurchnearyou
CATEGORIES:
DESCRIPTION:Every Sunday except 3rd Sunday of the month
GEO:1.377958;52.662842
LOCATION:Rackheath: Holy Trinity
URL:https://www.achurchnearyou.com/church/10084/service-and-events/events/
 949172/
END:VEVENT
BEGIN:VEVENT
SUMMARY:Morning Prayer with Coffee
DTSTART;TZID=Europe/London:20260917T091500
DTEND;TZID=Europe/London:20260917T100000
DTSTAMP:20260425T160114Z
UID:9491851789632900.0achurchnearyou
CATEGORIES:
DESCRIPTION:We pray for the community and the world using Common Worship D
 aily Prayer.  We meet at a members home\, so please contact revnaomituma@g
 mail.com to arrange to join us.  All are welcome.
URL:https://www.achurchnearyou.com/church/10084/service-and-events/events/
 949185/
END:VEVENT
BEGIN:VEVENT
SUMMARY:Third Sunday Praise
DTSTART;TZID=Europe/London:20260920T103000
DTEND;TZID=Europe/London:20260920T113000
DTSTAMP:20260425T160114Z
UID:10792061789896600.0achurchnearyou
CATEGORIES:
DESCRIPTION:An informal service of Hymns\, Prayers\, Bible readings and a 
 Sermon/Talk at Rackheath
GEO:1.377958;52.662842
LOCATION:Rackheath: Holy Trinity
URL:https://www.achurchnearyou.com/church/10084/service-and-events/events/
 1079206/
END:VEVENT
BEGIN:VEVENT
SUMMARY:Morning Prayer with Coffee
DTSTART;TZID=Europe/London:20260924T091500
DTEND;TZID=Europe/London:20260924T100000
DTSTAMP:20260425T160114Z
UID:9491851790237700.0achurchnearyou
CATEGORIES:
DESCRIPTION:We pray for the community and the world using Common Worship D
 aily Prayer.  We meet at a members home\, so please contact revnaomituma@g
 mail.com to arrange to join us.  All are welcome.
URL:https://www.achurchnearyou.com/church/10084/service-and-events/events/
 949185/
END:VEVENT
BEGIN:VEVENT
SUMMARY:Holy Communion
DTSTART;TZID=Europe/London:20260927T103000
DTEND;TZID=Europe/London:20260927T113000
DTSTAMP:20260425T160114Z
UID:9491721790501400.0achurchnearyou
CATEGORIES:
DESCRIPTION:Every Sunday except 3rd Sunday of the month
GEO:1.377958;52.662842
LOCATION:Rackheath: Holy Trinity
URL:https://www.achurchnearyou.com/church/10084/service-and-events/events/
 949172/
END:VEVENT
END:VCALENDAR
