BEGIN:VCALENDAR
VERSION:2.0
PRODID:-//achurchnearyou.com//eventfeed//EN
CALSCALE:GREGORIAN
METHOD:PUBLISH
X-WR-TIMEZONE:UTC
BEGIN:VEVENT
SUMMARY:Benefice Service
DTSTART:20260531T093000Z
DTEND:20260531T103000Z
DTSTAMP:20260425T193827Z
UID:13231662026-05-31 09:30:00+00:00achurchnearyou
CATEGORIES:
DESCRIPTION:The joint service for the benefice of Blofield & Broadside\, w
 ill be held at Woodbastwick Church on Sunday\, 31st May 2026\, beginning a
 t 10.30am.  Organ music. Refreshments available after the service.
GEO:1.44945;52.68444
LOCATION:Woodbastwick: St Fabian & St Sebastian
URL:https://www.achurchnearyou.com/church/10126/service-and-events/events/
 1323166/
END:VEVENT
END:VCALENDAR
