BEGIN:VCALENDAR
VERSION:2.0
PRODID:-//achurchnearyou.com//eventfeed//EN
CALSCALE:GREGORIAN
METHOD:PUBLISH
X-WR-TIMEZONE:UTC
BEGIN:VEVENT
SUMMARY:Sunday 24th May (Pentecost)\, 9.30 am Holy Communion (BCP)
DTSTART:20260524T083000Z
DTEND:20260524T093000Z
DTSTAMP:20260426T045819Z
UID:13254622026-05-24 08:30:00+00:00achurchnearyou
CATEGORIES:
DESCRIPTION:Celebrate with us in this service following the Order 2 Common
  Worship Holy Communion service using the Traditional Language version.\nR
 efreshments afterwards
GEO:1.406379;52.547848
LOCATION:Bergh Apton: St Peter & St Paul
URL:https://www.achurchnearyou.com/church/10140/service-and-events/events/
 1325462/
END:VEVENT
END:VCALENDAR
