BEGIN:VCALENDAR
VERSION:2.0
PRODID:-//achurchnearyou.com//eventfeed//EN
CALSCALE:GREGORIAN
METHOD:PUBLISH
X-WR-TIMEZONE:UTC
BEGIN:VEVENT
SUMMARY:Sunday 31st May 9.30\, Holy Communion at Rockland St Mary Church
DTSTART:20260531T083000Z
DTEND:20260531T093000Z
DTSTAMP:20260426T045818Z
UID:13254632026-05-31 08:30:00+00:00achurchnearyou
CATEGORIES:
DESCRIPTION:No service in Bergh Apton \nOn 5th Sundays we join with the ot
 her 10 churches of the Bramerton Group.  This time at Rockland St Mary Chu
 rch
LOCATION:St Mary's Church\, Rockland St Mary
URL:https://www.achurchnearyou.com/church/10140/service-and-events/events/
 1325463/
END:VEVENT
END:VCALENDAR
