BEGIN:VCALENDAR
VERSION:2.0
PRODID:-//achurchnearyou.com//eventfeed//EN
CALSCALE:GREGORIAN
METHOD:PUBLISH
X-WR-TIMEZONE:UTC
BEGIN:VEVENT
SUMMARY:Sunday 12th July\,10 am Benefice Holy Communion
DTSTART:20260712T090000Z
DTEND:20260712T100000Z
DTSTAMP:20260426T045820Z
UID:13254772026-07-12 09:00:00+00:00achurchnearyou
CATEGORIES:
DESCRIPTION:We're joined by memberso f our sister churches in the benefice
  for this service of Holy Communion.\nRefreshments afterwards
GEO:1.406379;52.547848
LOCATION:Bergh Apton: St Peter & St Paul
URL:https://www.achurchnearyou.com/church/10140/service-and-events/events/
 1325477/
END:VEVENT
END:VCALENDAR
