BEGIN:VCALENDAR
VERSION:2.0
PRODID:-//achurchnearyou.com//eventfeed//EN
CALSCALE:GREGORIAN
METHOD:PUBLISH
X-WR-TIMEZONE:UTC
BEGIN:VEVENT
SUMMARY:Christmas Day All-Age Communion
DTSTART:20251225T100000Z
DTEND:20251225T111500Z
DTSTAMP:20260422T151853Z
UID:12727852025-12-25 10:00:00+00:00achurchnearyou
CATEGORIES:
DESCRIPTION:Christmas Day Service Communion Service for all ages
GEO:1.359708;52.574837
LOCATION:St Andrew's
URL:https://www.achurchnearyou.com/church/10147/service-and-events/events/
 1272785/
END:VEVENT
END:VCALENDAR
