BEGIN:VCALENDAR
VERSION:2.0
PRODID:-//achurchnearyou.com//eventfeed//EN
CALSCALE:GREGORIAN
METHOD:PUBLISH
X-WR-TIMEZONE:UTC
BEGIN:VEVENT
SUMMARY:Holy Communion at Yelverton
DTSTART;TZID=Europe/London:20250413T100000
DTEND;TZID=Europe/London:20250413T110000
DTSTAMP:20260419T135357Z
UID:7256512025-04-13 10:00:00+01:00achurchnearyou
CATEGORIES:
DESCRIPTION:For all 5 churches together.
LOCATION:Yelverton Church
URL:https://www.achurchnearyou.com/church/10169/service-and-events/events/
 725651/
END:VEVENT
END:VCALENDAR
