BEGIN:VCALENDAR
VERSION:2.0
PRODID:-//achurchnearyou.com//eventfeed//EN
CALSCALE:GREGORIAN
METHOD:PUBLISH
X-WR-TIMEZONE:UTC
BEGIN:VEVENT
SUMMARY:Christmas Carol Service with the Pakefield Singers - Sunday 21st D
 ecember 25
DTSTART:20251221T183000Z
DTEND:20251221T190000Z
DTSTAMP:20260424T032106Z
UID:12617252025-12-21 18:30:00+00:00achurchnearyou
CATEGORIES:
DESCRIPTION:A truly wonderful Christmas Carol Service with all your favour
 ite Christmas Carols.
GEO:1.734246;52.453338
LOCATION:Pakefield Parish Church
URL:https://www.achurchnearyou.com/church/10190/service-and-events/events/
 1261725/
END:VEVENT
END:VCALENDAR
