BEGIN:VCALENDAR
VERSION:2.0
PRODID:-//achurchnearyou.com//eventfeed//EN
CALSCALE:GREGORIAN
METHOD:PUBLISH
X-WR-TIMEZONE:UTC
BEGIN:VEVENT
SUMMARY:Bloodmoor Hill Youth Cafe
DTSTART:20260227T190000Z
DTEND:20260227T210000Z
DTSTAMP:20260423T190825Z
UID:12900702026-02-27 19:00:00+00:00achurchnearyou
CATEGORIES:
DESCRIPTION:A great venue with lots fun for young people.
LOCATION:Bloodmoor Hill Community Centre
URL:https://www.achurchnearyou.com/church/10190/service-and-events/events/
 1290070/
END:VEVENT
END:VCALENDAR
