BEGIN:VCALENDAR
VERSION:2.0
PRODID:-//achurchnearyou.com//eventfeed//EN
CALSCALE:GREGORIAN
METHOD:PUBLISH
X-WR-TIMEZONE:UTC
BEGIN:VEVENT
SUMMARY:Mothering Sunday Service
DTSTART:20260315T103000Z
DTEND:20260315T110000Z
DTSTAMP:20260424T013040Z
UID:13015712026-03-15 10:30:00+00:00achurchnearyou
CATEGORIES:
DESCRIPTION:A Service to celebrate motherhood in all its many forms.
GEO:1.734246;52.453338
LOCATION:Pakefield Parish Church
URL:https://www.achurchnearyou.com/church/10190/service-and-events/events/
 1301571/
END:VEVENT
END:VCALENDAR
