BEGIN:VCALENDAR
VERSION:2.0
PRODID:-//achurchnearyou.com//eventfeed//EN
CALSCALE:GREGORIAN
METHOD:PUBLISH
X-WR-TIMEZONE:UTC
BEGIN:VEVENT
SUMMARY:Candlelit Carols
DTSTART:20251214T170000Z
DTEND:20251214T180000Z
DTSTAMP:20260422T121130Z
UID:12657322025-12-14 17:00:00+00:00achurchnearyou
CATEGORIES:
DESCRIPTION:Candlelit Carol Service: A unique experience. All welcome. Ref
 reshments
GEO:0.970899;52.464787
LOCATION:Eccles: St Mary The Virgin
URL:https://www.achurchnearyou.com/church/10209/service-and-events/events/
 1265732/
END:VEVENT
END:VCALENDAR
