BEGIN:VCALENDAR
VERSION:2.0
PRODID:-//achurchnearyou.com//eventfeed//EN
CALSCALE:GREGORIAN
METHOD:PUBLISH
X-WR-TIMEZONE:UTC
BEGIN:VEVENT
SUMMARY:Pop up cafe
DTSTART:20250412T090000Z
DTEND:20250412T110000Z
DTSTAMP:20260420T174321Z
UID:11847672025-04-12 09:00:00+00:00achurchnearyou
CATEGORIES:
DESCRIPTION:Our monthly pop up café with fresh cakes and hot coffee.  Eve
 ryone welcome!  Refreshments by donation.
GEO:0.977903;52.534667
LOCATION:Great Ellingham: St James
URL:https://www.achurchnearyou.com/church/10210/service-and-events/events/
 1184767/
END:VEVENT
END:VCALENDAR
