BEGIN:VCALENDAR
VERSION:2.0
PRODID:-//achurchnearyou.com//eventfeed//EN
CALSCALE:GREGORIAN
METHOD:PUBLISH
X-WR-TIMEZONE:UTC
BEGIN:VEVENT
SUMMARY:Messy Church
DTSTART:20251011T090000Z
DTEND:20251011T103000Z
DTSTAMP:20260420T055238Z
UID:12257142025-10-11 09:00:00+00:00achurchnearyou
CATEGORIES:
DESCRIPTION:Our Messy Church welcomes children and their parents / carers 
 for a session of craft and food activities.  This month our theme will be 
 Harvest.  The session ends with a bible story\, a short prayer and refresh
 ments.  No charge although donations are welcome.
GEO:0.977903;52.534667
LOCATION:Great Ellingham: St James
URL:https://www.achurchnearyou.com/church/10210/service-and-events/events/
 1225714/
END:VEVENT
END:VCALENDAR
