BEGIN:VCALENDAR
VERSION:2.0
PRODID:-//achurchnearyou.com//eventfeed//EN
CALSCALE:GREGORIAN
METHOD:PUBLISH
X-WR-TIMEZONE:UTC
BEGIN:VEVENT
SUMMARY:Harvest Festival Café Church
DTSTART:20251012T093000Z
DTEND:20251012T103000Z
DTSTAMP:20260420T075415Z
UID:12257172025-10-12 09:30:00+00:00achurchnearyou
CATEGORIES:
DESCRIPTION:In October\, we celebrate Harvest.  Donations of tinned and dr
 ied food are welcome for the foodbank.  This service is an all age worship
  led by the music group.  Breakfast style refreshments available from 9.30
 am.  Service starts at 10.30am
GEO:0.977903;52.534667
LOCATION:Great Ellingham: St James
URL:https://shellrockbenefice.org.uk/
END:VEVENT
END:VCALENDAR
