BEGIN:VCALENDAR
VERSION:2.0
PRODID:-//achurchnearyou.com//eventfeed//EN
CALSCALE:GREGORIAN
METHOD:PUBLISH
X-WR-TIMEZONE:UTC
BEGIN:VEVENT
SUMMARY:Pancake Races
DTSTART:20260217T153000Z
DTEND:20260217T163000Z
DTSTAMP:20260419T223013Z
UID:12889112026-02-17 15:30:00+00:00achurchnearyou
CATEGORIES:
DESCRIPTION:Annual pancake races for Shrove Tuesday!  Starting at 3.30pm f
 rom the Methodist Church.  There are usually three age categories (depends
  on numbers) - under 5s\, 5-7s\, 8+ and adults.  Bring a frying pan and pa
 ncake.  Pancakes available in the church afterwards for a small donation.
GEO:0.977903;52.534667
LOCATION:Great Ellingham: St James
URL:https://www.achurchnearyou.com/church/10210/service-and-events/events/
 1288911/
END:VEVENT
END:VCALENDAR
