BEGIN:VCALENDAR
VERSION:2.0
PRODID:-//achurchnearyou.com//eventfeed//EN
CALSCALE:GREGORIAN
METHOD:PUBLISH
X-WR-TIMEZONE:UTC
BEGIN:VEVENT
SUMMARY:Spring Fair
DTSTART:20260307T100000Z
DTEND:20260307T123000Z
DTSTAMP:20260419T204908Z
UID:12889122026-03-07 10:00:00+00:00achurchnearyou
CATEGORIES:
DESCRIPTION:Annual spring fair raising funds for St James.  Craft stalls. 
  Fresh homemade cakes.  Refreshments.  Tombola\, raffle\, games.  Free ent
 ry.
GEO:0.977903;52.534667
LOCATION:Great Ellingham: St James
URL:https://www.achurchnearyou.com/church/10210/service-and-events/events/
 1288912/
END:VEVENT
END:VCALENDAR
