BEGIN:VCALENDAR
VERSION:2.0
PRODID:-//achurchnearyou.com//eventfeed//EN
CALSCALE:GREGORIAN
METHOD:PUBLISH
X-WR-TIMEZONE:UTC
BEGIN:VEVENT
SUMMARY:EASTER CELEBRATION
DTSTART;TZID=Europe/London:20260405T110000
DTEND;TZID=Europe/London:20260405T120000
DTSTAMP:20260423T161850Z
UID:13016381775383200.0achurchnearyou
CATEGORIES:
DESCRIPTION:There will be an Easter service at 11.00 am on Sunday\, 5th Ap
 ril. All welcome.
GEO:0.600364;52.588457
LOCATION:Gooderstone: St George
URL:https://www.achurchnearyou.com/church/10239/service-and-events/events/
 1301638/
END:VEVENT
BEGIN:VEVENT
SUMMARY:Heritage Skills and Maintenance Day
DTSTART;TZID=Europe/London:20260418T100000
DTEND;TZID=Europe/London:20260418T143000
DTSTAMP:20260423T161850Z
UID:13045521776502800.0achurchnearyou
CATEGORIES:
DESCRIPTION:This exciting event will be held in 7 churches on the 18th Apr
 il 2026. A number of events\, hi-lighting traditional crafts and historica
 l knowledge\, will take place between 10.00 am and 2.30 pm. Demonstrations
  of monitoring cracks and historic lettering\; talks on history of stained
  glass windows.
GEO:0.600364;52.588457
LOCATION:Gooderstone: St George
URL:https://www.achurchnearyou.com/church/10239/service-and-events/events/
 1304552/
END:VEVENT
END:VCALENDAR
