BEGIN:VCALENDAR
VERSION:2.0
PRODID:-//achurchnearyou.com//eventfeed//EN
CALSCALE:GREGORIAN
METHOD:PUBLISH
X-WR-TIMEZONE:UTC
BEGIN:VEVENT
SUMMARY:Evening Prayer (autumn and winter)
DTSTART;TZID=Europe/London:20251102T160000
DTEND;TZID=Europe/London:20251102T164500
DTSTAMP:20260424T222924Z
UID:12084592025-11-02 16:00:00+00:00achurchnearyou
CATEGORIES:
DESCRIPTION:A traditional service of Evening Prayer using the Prayer Book 
 of 1662.  \nIn the autumn and winter\, we start our service at the earlier
  time of 4pm.
GEO:0.956822;52.838578
LOCATION:Fulmodeston: Christ Church
URL:https://www.achurchnearyou.com/church/10288/service-and-events/events/
 1208459/
END:VEVENT
BEGIN:VEVENT
SUMMARY:Evening Prayer (autumn and winter)
DTSTART;TZID=Europe/London:20251123T160000
DTEND;TZID=Europe/London:20251123T164500
DTSTAMP:20260424T222924Z
UID:12084592025-11-23 16:00:00+00:00achurchnearyou
CATEGORIES:
DESCRIPTION:A traditional service of Evening Prayer using the Prayer Book 
 of 1662.  \nIn the autumn and winter\, we start our service at the earlier
  time of 4pm.
GEO:0.956822;52.838578
LOCATION:Fulmodeston: Christ Church
URL:https://www.achurchnearyou.com/church/10288/service-and-events/events/
 1208459/
END:VEVENT
BEGIN:VEVENT
SUMMARY:Evening Prayer (autumn and winter)
DTSTART;TZID=Europe/London:20251207T160000
DTEND;TZID=Europe/London:20251207T164500
DTSTAMP:20260424T222924Z
UID:12084592025-12-07 16:00:00+00:00achurchnearyou
CATEGORIES:
DESCRIPTION:A traditional service of Evening Prayer using the Prayer Book 
 of 1662.  \nIn the autumn and winter\, we start our service at the earlier
  time of 4pm.
GEO:0.956822;52.838578
LOCATION:Fulmodeston: Christ Church
URL:https://www.achurchnearyou.com/church/10288/service-and-events/events/
 1208459/
END:VEVENT
BEGIN:VEVENT
SUMMARY:Evening Prayer (autumn and winter)
DTSTART;TZID=Europe/London:20260104T160000
DTEND;TZID=Europe/London:20260104T164500
DTSTAMP:20260424T222924Z
UID:12084592026-01-04 16:00:00+00:00achurchnearyou
CATEGORIES:
DESCRIPTION:A traditional service of Evening Prayer using the Prayer Book 
 of 1662.  \nIn the autumn and winter\, we start our service at the earlier
  time of 4pm.
GEO:0.956822;52.838578
LOCATION:Fulmodeston: Christ Church
URL:https://www.achurchnearyou.com/church/10288/service-and-events/events/
 1208459/
END:VEVENT
BEGIN:VEVENT
SUMMARY:Evening Prayer (autumn and winter)
DTSTART;TZID=Europe/London:20260125T160000
DTEND;TZID=Europe/London:20260125T164500
DTSTAMP:20260424T222924Z
UID:12084592026-01-25 16:00:00+00:00achurchnearyou
CATEGORIES:
DESCRIPTION:A traditional service of Evening Prayer using the Prayer Book 
 of 1662.  \nIn the autumn and winter\, we start our service at the earlier
  time of 4pm.
GEO:0.956822;52.838578
LOCATION:Fulmodeston: Christ Church
URL:https://www.achurchnearyou.com/church/10288/service-and-events/events/
 1208459/
END:VEVENT
BEGIN:VEVENT
SUMMARY:Evening Prayer (autumn and winter)
DTSTART;TZID=Europe/London:20260201T160000
DTEND;TZID=Europe/London:20260201T164500
DTSTAMP:20260424T222924Z
UID:12084592026-02-01 16:00:00+00:00achurchnearyou
CATEGORIES:
DESCRIPTION:A traditional service of Evening Prayer using the Prayer Book 
 of 1662.  \nIn the autumn and winter\, we start our service at the earlier
  time of 4pm.
GEO:0.956822;52.838578
LOCATION:Fulmodeston: Christ Church
URL:https://www.achurchnearyou.com/church/10288/service-and-events/events/
 1208459/
END:VEVENT
BEGIN:VEVENT
SUMMARY:Evening Prayer (autumn and winter)
DTSTART;TZID=Europe/London:20260222T160000
DTEND;TZID=Europe/London:20260222T164500
DTSTAMP:20260424T222924Z
UID:12084592026-02-22 16:00:00+00:00achurchnearyou
CATEGORIES:
DESCRIPTION:A traditional service of Evening Prayer using the Prayer Book 
 of 1662.  \nIn the autumn and winter\, we start our service at the earlier
  time of 4pm.
GEO:0.956822;52.838578
LOCATION:Fulmodeston: Christ Church
URL:https://www.achurchnearyou.com/church/10288/service-and-events/events/
 1208459/
END:VEVENT
BEGIN:VEVENT
SUMMARY:Evening Prayer (autumn and winter)
DTSTART;TZID=Europe/London:20260301T160000
DTEND;TZID=Europe/London:20260301T164500
DTSTAMP:20260424T222924Z
UID:12084592026-03-01 16:00:00+00:00achurchnearyou
CATEGORIES:
DESCRIPTION:A traditional service of Evening Prayer using the Prayer Book 
 of 1662.  \nIn the autumn and winter\, we start our service at the earlier
  time of 4pm.
GEO:0.956822;52.838578
LOCATION:Fulmodeston: Christ Church
URL:https://www.achurchnearyou.com/church/10288/service-and-events/events/
 1208459/
END:VEVENT
BEGIN:VEVENT
SUMMARY:Evening Prayer (autumn and winter)
DTSTART;TZID=Europe/London:20260322T160000
DTEND;TZID=Europe/London:20260322T164500
DTSTAMP:20260424T222924Z
UID:12084592026-03-22 16:00:00+00:00achurchnearyou
CATEGORIES:
DESCRIPTION:A traditional service of Evening Prayer using the Prayer Book 
 of 1662.  \nIn the autumn and winter\, we start our service at the earlier
  time of 4pm.
GEO:0.956822;52.838578
LOCATION:Fulmodeston: Christ Church
URL:https://www.achurchnearyou.com/church/10288/service-and-events/events/
 1208459/
END:VEVENT
END:VCALENDAR
