BEGIN:VCALENDAR
VERSION:2.0
PRODID:-//achurchnearyou.com//eventfeed//EN
CALSCALE:GREGORIAN
METHOD:PUBLISH
X-WR-TIMEZONE:UTC
BEGIN:VEVENT
SUMMARY:Evening Prayer
DTSTART;TZID=Europe/London:20241201T180000
DTEND;TZID=Europe/London:20241201T184500
DTSTAMP:20260426T021300Z
UID:8872782024-12-01 18:00:00+00:00achurchnearyou
CATEGORIES:
DESCRIPTION:A traditional service of Evening Prayer using the Book of Comm
 on Prayer.\nWe meet on the first and fourth Sundays (check the calendar fo
 r variations).\nSome weeks we have a part sung service\, others we say the
  service entirely\, this depends on our ability to secure the services of 
 an organist.
GEO:0.956822;52.838578
LOCATION:Fulmodeston: Christ Church
URL:https://www.achurchnearyou.com/church/10288/service-and-events/events/
 887278/
END:VEVENT
BEGIN:VEVENT
SUMMARY:Evening Prayer
DTSTART;TZID=Europe/London:20250105T180000
DTEND;TZID=Europe/London:20250105T184500
DTSTAMP:20260426T021300Z
UID:8872782025-01-05 18:00:00+00:00achurchnearyou
CATEGORIES:
DESCRIPTION:A traditional service of Evening Prayer using the Book of Comm
 on Prayer.\nWe meet on the first and fourth Sundays (check the calendar fo
 r variations).\nSome weeks we have a part sung service\, others we say the
  service entirely\, this depends on our ability to secure the services of 
 an organist.
GEO:0.956822;52.838578
LOCATION:Fulmodeston: Christ Church
URL:https://www.achurchnearyou.com/church/10288/service-and-events/events/
 887278/
END:VEVENT
BEGIN:VEVENT
SUMMARY:Evening Prayer
DTSTART;TZID=Europe/London:20250126T180000
DTEND;TZID=Europe/London:20250126T184500
DTSTAMP:20260426T021300Z
UID:8872782025-01-26 18:00:00+00:00achurchnearyou
CATEGORIES:
DESCRIPTION:A traditional service of Evening Prayer using the Book of Comm
 on Prayer.\nWe meet on the first and fourth Sundays (check the calendar fo
 r variations).\nSome weeks we have a part sung service\, others we say the
  service entirely\, this depends on our ability to secure the services of 
 an organist.
GEO:0.956822;52.838578
LOCATION:Fulmodeston: Christ Church
URL:https://www.achurchnearyou.com/church/10288/service-and-events/events/
 887278/
END:VEVENT
BEGIN:VEVENT
SUMMARY:Evening Prayer
DTSTART;TZID=Europe/London:20250202T180000
DTEND;TZID=Europe/London:20250202T184500
DTSTAMP:20260426T021300Z
UID:8872782025-02-02 18:00:00+00:00achurchnearyou
CATEGORIES:
DESCRIPTION:A traditional service of Evening Prayer using the Book of Comm
 on Prayer.\nWe meet on the first and fourth Sundays (check the calendar fo
 r variations).\nSome weeks we have a part sung service\, others we say the
  service entirely\, this depends on our ability to secure the services of 
 an organist.
GEO:0.956822;52.838578
LOCATION:Fulmodeston: Christ Church
URL:https://www.achurchnearyou.com/church/10288/service-and-events/events/
 887278/
END:VEVENT
BEGIN:VEVENT
SUMMARY:Evening Prayer
DTSTART;TZID=Europe/London:20250223T180000
DTEND;TZID=Europe/London:20250223T184500
DTSTAMP:20260426T021300Z
UID:8872782025-02-23 18:00:00+00:00achurchnearyou
CATEGORIES:
DESCRIPTION:A traditional service of Evening Prayer using the Book of Comm
 on Prayer.\nWe meet on the first and fourth Sundays (check the calendar fo
 r variations).\nSome weeks we have a part sung service\, others we say the
  service entirely\, this depends on our ability to secure the services of 
 an organist.
GEO:0.956822;52.838578
LOCATION:Fulmodeston: Christ Church
URL:https://www.achurchnearyou.com/church/10288/service-and-events/events/
 887278/
END:VEVENT
BEGIN:VEVENT
SUMMARY:Evening Prayer
DTSTART;TZID=Europe/London:20250302T180000
DTEND;TZID=Europe/London:20250302T184500
DTSTAMP:20260426T021300Z
UID:8872782025-03-02 18:00:00+00:00achurchnearyou
CATEGORIES:
DESCRIPTION:A traditional service of Evening Prayer using the Book of Comm
 on Prayer.\nWe meet on the first and fourth Sundays (check the calendar fo
 r variations).\nSome weeks we have a part sung service\, others we say the
  service entirely\, this depends on our ability to secure the services of 
 an organist.
GEO:0.956822;52.838578
LOCATION:Fulmodeston: Christ Church
URL:https://www.achurchnearyou.com/church/10288/service-and-events/events/
 887278/
END:VEVENT
BEGIN:VEVENT
SUMMARY:Evening Prayer
DTSTART;TZID=Europe/London:20250323T180000
DTEND;TZID=Europe/London:20250323T184500
DTSTAMP:20260426T021300Z
UID:8872782025-03-23 18:00:00+00:00achurchnearyou
CATEGORIES:
DESCRIPTION:A traditional service of Evening Prayer using the Book of Comm
 on Prayer.\nWe meet on the first and fourth Sundays (check the calendar fo
 r variations).\nSome weeks we have a part sung service\, others we say the
  service entirely\, this depends on our ability to secure the services of 
 an organist.
GEO:0.956822;52.838578
LOCATION:Fulmodeston: Christ Church
URL:https://www.achurchnearyou.com/church/10288/service-and-events/events/
 887278/
END:VEVENT
END:VCALENDAR
