BEGIN:VCALENDAR
VERSION:2.0
PRODID:-//achurchnearyou.com//eventfeed//EN
CALSCALE:GREGORIAN
METHOD:PUBLISH
X-WR-TIMEZONE:UTC
BEGIN:VEVENT
SUMMARY:March Market and Book Sale
DTSTART:20260314T093000Z
DTEND:20260314T120000Z
DTSTAMP:20260419T213940Z
UID:13059452026-03-14 09:30:00+00:00achurchnearyou
CATEGORIES:
DESCRIPTION:Choose flowers and gifts for Mothering Sunday\, browse the wid
 e selection of  books and see the heritage displays. St. Andrew’s Pantry
  will be open for coffee\, scones\, cake and savoury treats. It is a good 
 place to meet up with friends!
GEO:0.909478;52.807253
LOCATION:Great Ryburgh Church with Little Ryburgh & Testerton
URL:https://www.standrewsgreatryburgh.org.uk
END:VEVENT
END:VCALENDAR
