BEGIN:VCALENDAR
VERSION:2.0
PRODID:-//achurchnearyou.com//eventfeed//EN
CALSCALE:GREGORIAN
METHOD:PUBLISH
X-WR-TIMEZONE:UTC
BEGIN:VEVENT
SUMMARY:Compline
DTSTART:20250414T180000Z
DTEND:20250414T190000Z
DTSTAMP:20260425T192636Z
UID:11717742025-04-14 18:00:00+00:00achurchnearyou
CATEGORIES:
DESCRIPTION:Compline service on Monday 14th April at 7pm
GEO:0.577844;52.88326
LOCATION:Fring: All Saints
URL:https://www.achurchnearyou.com/church/10309/service-and-events/events/
 1171774/
END:VEVENT
END:VCALENDAR
