BEGIN:VCALENDAR
VERSION:2.0
PRODID:-//achurchnearyou.com//eventfeed//EN
CALSCALE:GREGORIAN
METHOD:PUBLISH
X-WR-TIMEZONE:UTC
BEGIN:VEVENT
SUMMARY:Eucharist
DTSTART:20260517T073000Z
DTEND:20260517T080000Z
DTSTAMP:20260424T042334Z
UID:10971922026-05-17 07:30:00+00:00achurchnearyou
CATEGORIES:
DESCRIPTION:A wonderful place to start Sunday with our morning service. Al
 l welcome to come a share the Joy and wonder of Christ.
GEO:1.160678;52.887104
LOCATION:Baconsthorpe: St Mary
URL:https://www.achurchnearyou.com/church/10319/service-and-events/events/
 1097192/
END:VEVENT
END:VCALENDAR
