BEGIN:VCALENDAR
VERSION:2.0
PRODID:-//achurchnearyou.com//eventfeed//EN
CALSCALE:GREGORIAN
METHOD:PUBLISH
X-WR-TIMEZONE:UTC
BEGIN:VEVENT
SUMMARY:The Transfiguration
DTSTART:20250806T083000Z
DTEND:20250806T093000Z
DTSTAMP:20260424T221435Z
UID:12119712025-08-06 08:30:00+00:00achurchnearyou
CATEGORIES:
DESCRIPTION:Celebrate the Transfiguration: Light Revealed for All\n\nJoin 
 us for a special service honouring the Transfiguration of Christ. We remem
 ber when Jesus' divine radiance broke through\, witnessed by his disciples
  on the mountaintop. \n\nThis gathering is a time to marvel at God's glory
  revealed in Jesus\, reflect on our own moments of spiritual clarity\, and
  find strength for the path ahead. Through prayer\, reflection\, and commu
 nion\, we gather together in wonder. \n\nAll are truly welcome – seekers
 \, believers\, and everyone in between.
GEO:1.160678;52.887104
LOCATION:Baconsthorpe: St Mary
URL:https://www.achurchnearyou.com/church/10319/service-and-events/events/
 1211971/
END:VEVENT
END:VCALENDAR
