BEGIN:VCALENDAR
VERSION:2.0
PRODID:-//achurchnearyou.com//eventfeed//EN
CALSCALE:GREGORIAN
METHOD:PUBLISH
X-WR-TIMEZONE:UTC
BEGIN:VEVENT
SUMMARY:Carol Service with Choir
DTSTART:20251221T170000Z
DTEND:20251221T180000Z
DTSTAMP:20260424T144638Z
UID:12250482025-12-21 17:00:00+00:00achurchnearyou
CATEGORIES:
DESCRIPTION:Our Carol Service featuring a choir is one of the highlights o
 f the Christmas season — a joyful celebration filled with well-loved car
 ols\, readings\, and the timeless story of the birth of Jesus. Whether you
  have been coming to church for many years\, haven’t been for a long tim
 e\, or are simply curious to experience the wonder of Christmas in a tradi
 tional way\, you will find a warm welcome here.\n\nYou don’t need to kno
 w the words or the tunes — just come and enjoy the music\, the atmospher
 e\, and the sense of community as voices join together in song. The servic
 e is family-friendly and open to all\, offering a chance to pause in the b
 usyness of December and to share in the hope and joy that Christmas brings
 .\n\nWe warmly invite you to join us\, bring friends and family\, and be p
 art of this very special celebration.
GEO:1.160678;52.887104
LOCATION:Baconsthorpe: St Mary
URL:https://www.achurchnearyou.com/church/10319/service-and-events/events/
 1225048/
END:VEVENT
END:VCALENDAR
