BEGIN:VCALENDAR
VERSION:2.0
PRODID:-//achurchnearyou.com//eventfeed//EN
CALSCALE:GREGORIAN
METHOD:PUBLISH
X-WR-TIMEZONE:UTC
BEGIN:VEVENT
SUMMARY:Benefice Sung Communion
DTSTART:20250831T100000Z
DTEND:20250831T110000Z
DTSTAMP:20260420T082900Z
UID:12174112025-08-31 10:00:00+00:00achurchnearyou
CATEGORIES:
DESCRIPTION:A Common Worship Service\, which is also live-streamed on our 
 YouTube Channel (link below)\n\nDo join us for tea/coffee after the servic
 e.
GEO:1.024781;52.951212
LOCATION:St Nicholas\, Blakeney
URL:https://glavenvalleychurches.org.uk
END:VEVENT
END:VCALENDAR
