BEGIN:VCALENDAR
VERSION:2.0
PRODID:-//achurchnearyou.com//eventfeed//EN
CALSCALE:GREGORIAN
METHOD:PUBLISH
X-WR-TIMEZONE:UTC
BEGIN:VEVENT
SUMMARY:The Institution & Induction of Rev Canon Jonathan Dowman as Rector
  of the Glaven Valley Benefice
DTSTART:20250728T180000Z
DTEND:20250728T193000Z
DTSTAMP:20260420T043454Z
UID:11977652025-07-28 18:00:00+00:00achurchnearyou
CATEGORIES:
DESCRIPTION:This service will be led by Rt Rev Graham Usher\, Bishop of No
 rwich & Ben Catherine Dobson\, Archdeacon of Lynn.
LOCATION:St Nicholas\, Blakeney
URL:https://glavenvalleychurches.org.uk
END:VEVENT
END:VCALENDAR
