BEGIN:VCALENDAR
VERSION:2.0
PRODID:-//achurchnearyou.com//eventfeed//EN
CALSCALE:GREGORIAN
METHOD:PUBLISH
X-WR-TIMEZONE:UTC
BEGIN:VEVENT
SUMMARY:Easter Sunrise Service
DTSTART:20260405T050000Z
DTEND:20260405T054500Z
DTSTAMP:20260419T135245Z
UID:13069752026-04-05 05:00:00+00:00achurchnearyou
CATEGORIES:
DESCRIPTION:Join us on Cley Beach for our first celebration of the resurre
 ction.
LOCATION:Cley Beach
URL:https://glavenvalleychurches.org.uk
END:VEVENT
END:VCALENDAR
