BEGIN:VCALENDAR
VERSION:2.0
PRODID:-//achurchnearyou.com//eventfeed//EN
CALSCALE:GREGORIAN
METHOD:PUBLISH
X-WR-TIMEZONE:UTC
BEGIN:VEVENT
SUMMARY:"Last Words of Love"
DTSTART:20260403T100000Z
DTEND:20260403T110000Z
DTSTAMP:20260419T135205Z
UID:13069902026-04-03 10:00:00+00:00achurchnearyou
CATEGORIES:
DESCRIPTION:Seven Last Words from the Cross\nin Readings\, Prayers\, Refle
 ctions\, Silence and Music
LOCATION:St Nicholas\, Blakeney
URL:https://glavenvalleychurches.org.uk
END:VEVENT
END:VCALENDAR
