BEGIN:VCALENDAR
VERSION:2.0
PRODID:-//achurchnearyou.com//eventfeed//EN
CALSCALE:GREGORIAN
METHOD:PUBLISH
X-WR-TIMEZONE:UTC
BEGIN:VEVENT
SUMMARY:Living Nativity (Saturday 13th December)
DTSTART:20251213T100000Z
DTEND:20251213T160000Z
DTSTAMP:20260421T085828Z
UID:12251252025-12-13 10:00:00+00:00achurchnearyou
CATEGORIES:
DESCRIPTION:Come and experience the Christmas story in a new and memorable
  way at our Living Nativity. This special event brings the story of Jesus
 ’ birth to life\, with characters\, scenes\, and activities to help all 
 ages engage with the wonder of that first Christmas.\n\nWhether you come w
 ith family\, friends\, or on your own\, you’ll find a warm welcome and a
  chance to step into the heart of the nativity story.\n\nMore details abou
 t times and activities will be shared soon — but for now\, please save t
 he date and join us on this festive Saturday event.
GEO:1.139767;52.829781
LOCATION:Saxthorpe with Corpusty: St Andrew
URL:https://www.achurchnearyou.com/church/10369/service-and-events/events/
 1225125/
END:VEVENT
END:VCALENDAR
