BEGIN:VCALENDAR
VERSION:2.0
PRODID:-//achurchnearyou.com//eventfeed//EN
CALSCALE:GREGORIAN
METHOD:PUBLISH
X-WR-TIMEZONE:UTC
BEGIN:VEVENT
SUMMARY:Harvest Festival
DTSTART:20251005T090000Z
DTEND:20251012T100000Z
DTSTAMP:20260422T155546Z
UID:12300392025-10-05 09:00:00+00:00achurchnearyou
CATEGORIES:
DESCRIPTION:On Sunday 5th October we will be celebrating our Harvest Festi
 val and are asking for donations of tinned  meat\, fish and vegetables for
  us to donate to the Norwich Food Bank.  The collection will remain open u
 ntil Sunday 12th and can be brought to any of our services in between. Lit
 tle Lions will also have their own celebration on Wednesday 8th October in
  the hall.
GEO:1.299112;52.618833
LOCATION:Lakenham: St Mark
URL:https://www.achurchnearyou.com/church/10371/service-and-events/events/
 1230039/
END:VEVENT
END:VCALENDAR
