BEGIN:VCALENDAR
VERSION:2.0
PRODID:-//achurchnearyou.com//eventfeed//EN
CALSCALE:GREGORIAN
METHOD:PUBLISH
X-WR-TIMEZONE:UTC
BEGIN:VEVENT
SUMMARY:Easter Day Evening Prayer
DTSTART;TZID=Europe/London:20260405T183000
DTEND;TZID=Europe/London:20260405T193000
DTSTAMP:20260425T154051Z
UID:12995451775410200.0achurchnearyou
CATEGORIES:
DESCRIPTION:Evening Prayer
GEO:-2.792239;52.341563
LOCATION:Pipe Aston: St Giles
URL:https://www.achurchnearyou.com/church/10403/service-and-events/events/
 1299545/
END:VEVENT
END:VCALENDAR
