BEGIN:VCALENDAR
VERSION:2.0
PRODID:-//achurchnearyou.com//eventfeed//EN
CALSCALE:GREGORIAN
METHOD:PUBLISH
X-WR-TIMEZONE:UTC
BEGIN:VEVENT
SUMMARY:Service of Reflection
DTSTART:20250418T110000Z
DTEND:20250418T120000Z
DTSTAMP:20260424T092654Z
UID:11749212025-04-18 11:00:00+00:00achurchnearyou
CATEGORIES:
DESCRIPTION:Celebrating Good Friday being a day of Reflection\, Remembranc
 e and Redemption.
GEO:-2.573515;52.204853
LOCATION:Bredenbury: St Andrew
URL:https://www.achurchnearyou.com/church/10431/service-and-events/events/
 1174921/
END:VEVENT
END:VCALENDAR
