BEGIN:VCALENDAR
VERSION:2.0
PRODID:-//achurchnearyou.com//eventfeed//EN
CALSCALE:GREGORIAN
METHOD:PUBLISH
X-WR-TIMEZONE:UTC
BEGIN:VEVENT
SUMMARY:Reflective Ramble
DTSTART:20240428T130000Z
DTEND:20240428T160000Z
DTSTAMP:20260421T115309Z
UID:10664772024-04-28 13:00:00+00:00achurchnearyou
CATEGORIES:
DESCRIPTION:Join us on Sunday afternoon for a chance to spend some time in
  nature with others exploring the countryside on foot. Bring your own fait
 h or none. All are welcome.\n\nEveryone welcome if you haven’t already c
 onfirmed you are joining us please do.\n\n \n\nThe plan is to meet\, ready
  to walk at Clodock church at 2pm\, (HR2 0NY)\n\nWhat 3 words: ///unable.v
 ocal.paintings\n\n \n\nPlease bring cakes to share at the end.\n\n \n\nThi
 ngs to bring & remember:\n\n· Please be sure to bring shoes/boots that ha
 ve a good tread on the bottoms\, it will be muddy under foot!\n\n· We wil
 l be walking even if it rains\, so please bring a good waterproof coat\n\n
 · Please bring a hat & gloves\, even if you don't think you need them\, w
 eather can change.\n\n· I would suggest that a rucksack type bag is a goo
 d idea to wear rather than a handbag or a shoulder bag because it gives yo
 u freedom to move and open gates etc.\n\n· Bring your walking poles if yo
 u use them.\n\n· Please bring some water\n\n· Please bring any medicatio
 n that you need such as epi pens\, inhalers etc.\n\n· Sorry do dogs allow
 ed
LOCATION:The Parish Church of St Clydawg in Clodock
URL:https://www.achurchnearyou.com/church/10474/service-and-events/events/
 1066477/
END:VEVENT
END:VCALENDAR
