BEGIN:VCALENDAR
VERSION:2.0
PRODID:-//achurchnearyou.com//eventfeed//EN
CALSCALE:GREGORIAN
METHOD:PUBLISH
X-WR-TIMEZONE:UTC
BEGIN:VEVENT
SUMMARY:Maundy Thursday Passover Meal
DTSTART:20250417T170000Z
DTEND:20250417T200000Z
DTSTAMP:20260422T174451Z
UID:11558772025-04-17 17:00:00+00:00achurchnearyou
CATEGORIES:
DESCRIPTION:Please do come along and join us at this reflective Passover M
 eal. Everyone welcome.
LOCATION:Cleobury North Village Hall
URL:https://www.achurchnearyou.com/church/10502/service-and-events/events/
 1155877/
END:VEVENT
END:VCALENDAR
