BEGIN:VCALENDAR
VERSION:2.0
PRODID:-//achurchnearyou.com//eventfeed//EN
CALSCALE:GREGORIAN
METHOD:PUBLISH
X-WR-TIMEZONE:UTC
BEGIN:VEVENT
SUMMARY:Holy Communion Service
DTSTART:20251228T100000Z
DTEND:20251228T110000Z
DTSTAMP:20260422T001712Z
UID:12451032025-12-28 10:00:00+00:00achurchnearyou
CATEGORIES:
DESCRIPTION:Please join us for our Holy Communion Service the Sunday after
  Christmas
GEO:-2.578472;52.499009
LOCATION:Ditton Priors Church
URL:https://www.achurchnearyou.com/church/10502/service-and-events/events/
 1245103/
END:VEVENT
END:VCALENDAR
